BEGIN:VCALENDAR
VERSION:2.0
PRODID:-//Northern Division - ECPv6.15.20//NONSGML v1.0//EN
CALSCALE:GREGORIAN
METHOD:PUBLISH
X-WR-CALNAME:Northern Division
X-ORIGINAL-URL:https://northerndivisioncamc.co.uk
X-WR-CALDESC:Events for Northern Division
REFRESH-INTERVAL;VALUE=DURATION:PT1H
X-Robots-Tag:noindex
X-PUBLISHED-TTL:PT1H
BEGIN:VTIMEZONE
TZID:Europe/London
BEGIN:DAYLIGHT
TZOFFSETFROM:+0000
TZOFFSETTO:+0100
TZNAME:BST
DTSTART:20250330T010000
END:DAYLIGHT
BEGIN:STANDARD
TZOFFSETFROM:+0100
TZOFFSETTO:+0000
TZNAME:GMT
DTSTART:20251026T010000
END:STANDARD
BEGIN:DAYLIGHT
TZOFFSETFROM:+0000
TZOFFSETTO:+0100
TZNAME:BST
DTSTART:20260329T010000
END:DAYLIGHT
BEGIN:STANDARD
TZOFFSETFROM:+0100
TZOFFSETTO:+0000
TZNAME:GMT
DTSTART:20261025T010000
END:STANDARD
BEGIN:DAYLIGHT
TZOFFSETFROM:+0000
TZOFFSETTO:+0100
TZNAME:BST
DTSTART:20270328T010000
END:DAYLIGHT
BEGIN:STANDARD
TZOFFSETFROM:+0100
TZOFFSETTO:+0000
TZNAME:GMT
DTSTART:20271031T010000
END:STANDARD
END:VTIMEZONE
BEGIN:VEVENT
DTSTART;VALUE=DATE:20260423
DTEND;VALUE=DATE:20260428
DTSTAMP:20260425T180931
CREATED:20241208T172930Z
LAST-MODIFIED:20260120T153234Z
UID:10000402-1776902400-1777334399@northerndivisioncamc.co.uk
SUMMARY:Egremont Pines near Pocklington
DESCRIPTION:Egremont Pines Alpaca Farm. YO41 5PA \nAttractions – Pocklington Food and Drink Festival and Burnby Hall Gardens annual tulip festival (Assistance dogs only in the gardens).\nClose to the market town of Pocklington and 9 miles from York. \nRally Fee – £26 for 2 nights\, Extra nights £13pn
URL:https://northerndivisioncamc.co.uk/event/egremont-pines-near-pocklington/
LOCATION:Egremont Pines Alpaca Farm\, YO41 5PA\, United Kingdom
CATEGORIES:Weekend,Weekend plus
ATTACH;FMTTYPE=image/webp:https://northerndivisioncamc.co.uk/wp-content/uploads/2024/12/mwyc-alpaca.webp
END:VEVENT
BEGIN:VEVENT
DTSTART;VALUE=DATE:20260423
DTEND;VALUE=DATE:20260427
DTSTAMP:20260425T180931
CREATED:20260126T202754Z
LAST-MODIFIED:20260126T202754Z
UID:10000672-1776902400-1777247999@northerndivisioncamc.co.uk
SUMMARY:Spring in Osbaldwick
DESCRIPTION:The Derwent Arms\, Osbaldwick\, YO10 3NP \nGood bus service into York.\nFrom the rally field there is a walk / cycle path into York passing the Foss Island Retail Park.\nApproximately ½ hour to the retail centre and ¾ hour to York.\nA short drive to the retail outlets at Monks Cross and Clifton Moor.\nElvington Air Museum is not far and the National Railway Museum is in York. \nMeal in the pub followed by a local artist.
URL:https://northerndivisioncamc.co.uk/event/spring-in-osbaldwick/
LOCATION:Derwent Arms\, YO10 3NP\, United Kingdom
CATEGORIES:Weekend,Weekend plus
ATTACH;FMTTYPE=image/webp:https://northerndivisioncamc.co.uk/wp-content/uploads/2024/12/eyc-derwent-arms-1.webp
END:VEVENT
END:VCALENDAR