BEGIN:VCALENDAR
VERSION:2.0
PRODID:-//Northern Division - ECPv6.15.20//NONSGML v1.0//EN
CALSCALE:GREGORIAN
METHOD:PUBLISH
X-WR-CALNAME:Northern Division
X-ORIGINAL-URL:https://northerndivisioncamc.co.uk
X-WR-CALDESC:Events for Northern Division
REFRESH-INTERVAL;VALUE=DURATION:PT1H
X-Robots-Tag:noindex
X-PUBLISHED-TTL:PT1H
BEGIN:VTIMEZONE
TZID:Europe/London
BEGIN:DAYLIGHT
TZOFFSETFROM:+0000
TZOFFSETTO:+0100
TZNAME:BST
DTSTART:20240331T010000
END:DAYLIGHT
BEGIN:STANDARD
TZOFFSETFROM:+0100
TZOFFSETTO:+0000
TZNAME:GMT
DTSTART:20241027T010000
END:STANDARD
BEGIN:DAYLIGHT
TZOFFSETFROM:+0000
TZOFFSETTO:+0100
TZNAME:BST
DTSTART:20250330T010000
END:DAYLIGHT
BEGIN:STANDARD
TZOFFSETFROM:+0100
TZOFFSETTO:+0000
TZNAME:GMT
DTSTART:20251026T010000
END:STANDARD
BEGIN:DAYLIGHT
TZOFFSETFROM:+0000
TZOFFSETTO:+0100
TZNAME:BST
DTSTART:20260329T010000
END:DAYLIGHT
BEGIN:STANDARD
TZOFFSETFROM:+0100
TZOFFSETTO:+0000
TZNAME:GMT
DTSTART:20261025T010000
END:STANDARD
END:VTIMEZONE
BEGIN:VEVENT
DTSTART;VALUE=DATE:20250627
DTEND;VALUE=DATE:20250706
DTSTAMP:20260426T052423
CREATED:20241210T114409Z
LAST-MODIFIED:20241210T114409Z
UID:10000438-1750982400-1751759999@northerndivisioncamc.co.uk
SUMMARY:Newstead Abbey
DESCRIPTION:Newstead Abbey\, Ravenshead\, NG15 9HJ \nBeautiful 300-acre parkland site\, Newstead Abbey and all its attached attractions of gift shop\, local garden centre\, café.\nNearby towns of Nottingham\, Mansfield and Derby.\nMany other interesting and Historical sites within a 25 Mile radius. \nOrganised family walks\, social evenings\, games and quizzes and lots more. \nRally Opens: noon Friday Closes: noon Saturday 5th July \nRally Fee: £27.00 for 2 nights incl. £2.00 non-returnable booking fee.\n£10.00 extra nights. Please indicate on slip.
URL:https://northerndivisioncamc.co.uk/event/newstead-abbey-2/
LOCATION:Newstead Abbey\, NG15 9HJ\, United Kingdom
CATEGORIES:Holiday,Weekend plus
ATTACH;FMTTYPE=image/webp:https://northerndivisioncamc.co.uk/wp-content/uploads/2024/12/eyc-newstead-abbey.webp
END:VEVENT
BEGIN:VEVENT
DTSTART;VALUE=DATE:20250707
DTEND;VALUE=DATE:20250721
DTSTAMP:20260426T052423
CREATED:20241210T133704Z
LAST-MODIFIED:20241210T134415Z
UID:10000440-1751846400-1753055999@northerndivisioncamc.co.uk
SUMMARY:Holiday Rally in Cheshire
DESCRIPTION:Sycamore Farm\, Chelford Road\, Soss Moss\, Nether Alderley\, Macclesfield\, SK10 4TU \nSituated just outside Alderley Edge (where a lot of Professional Footballers live).\nThe site is ideally situated for visits to the local National Trust and English Heritage sites.\nChester\, Liverpool\, Manchester\, Buxton and the Western Peak District\, all are a comfortable drive away.\nVisit the Macclesfield Tourist Information site for many more ideas. \nEHU is available at extra cost for all if requested. Come for 2 weeks or a few days\, whichever suits.  \nNOTE: Green Elson fluid required. \nWe will have 4 socials in the rented Marquee on site\, 3 of which will involve food. Outside activities dependent on weather. \nRally Opens: noon Monday CLOSES: noon Sunday 20th July \nRALLY MARSHALS: NEEDS A RALLY MARSHAL \nRally Fee: £74.00 for 7 nights incl. £2.00 non-returnable booking fee.\n£9.60 extra nights. Please indicate on slip.
URL:https://northerndivisioncamc.co.uk/event/holiday-rally-in-cheshire/
LOCATION:Sycamore Farm\, SK10 4TU\, United Kingdom
CATEGORIES:Holiday
ATTACH;FMTTYPE=image/webp:https://northerndivisioncamc.co.uk/wp-content/uploads/2024/12/eyc-sycamore-farm.webp
END:VEVENT
BEGIN:VEVENT
DTSTART;VALUE=DATE:20250730
DTEND;VALUE=DATE:20250806
DTSTAMP:20260426T052423
CREATED:20250102T202936Z
LAST-MODIFIED:20250102T203539Z
UID:10000486-1753833600-1754438399@northerndivisioncamc.co.uk
SUMMARY:Week in Wales
DESCRIPTION:Landlyn Holiday Farm\, Llangollen\, LL20 7UH \nCheese and wine evening. \nFurther afield there are opportunities to explore the Areas of Outstanding Natural Beauty such as Ceiriog Valley\, the Berwyn Mountains and Pistyll Rhaeadr\, the highest waterfall in Wales.  \nAt Llangollen\, the scenic Dee Valley by steam train or by canal boat.\nThere are a selection of restaurants in the area. \nNIGHTLY COST- £12\nVAN LIMIT- 30\nHARDSTANDING- NO\nEHU- NO\nRALLY OPEN TIME- 1PM
URL:https://northerndivisioncamc.co.uk/event/week-in-wales/
LOCATION:Landlyn Holiday Farm\, LL20 7UH\, United Kingdom
CATEGORIES:Holiday
ATTACH;FMTTYPE=image/webp:https://northerndivisioncamc.co.uk/wp-content/uploads/2025/01/cnl-landlyn-holiday-park-1.webp
END:VEVENT
END:VCALENDAR