BEGIN:VCALENDAR
VERSION:2.0
PRODID:-//Northern Division - ECPv6.15.20//NONSGML v1.0//EN
CALSCALE:GREGORIAN
METHOD:PUBLISH
X-WR-CALNAME:Northern Division
X-ORIGINAL-URL:https://northerndivisioncamc.co.uk
X-WR-CALDESC:Events for Northern Division
REFRESH-INTERVAL;VALUE=DURATION:PT1H
X-Robots-Tag:noindex
X-PUBLISHED-TTL:PT1H
BEGIN:VTIMEZONE
TZID:Europe/London
BEGIN:DAYLIGHT
TZOFFSETFROM:+0000
TZOFFSETTO:+0100
TZNAME:BST
DTSTART:20250330T010000
END:DAYLIGHT
BEGIN:STANDARD
TZOFFSETFROM:+0100
TZOFFSETTO:+0000
TZNAME:GMT
DTSTART:20251026T010000
END:STANDARD
BEGIN:DAYLIGHT
TZOFFSETFROM:+0000
TZOFFSETTO:+0100
TZNAME:BST
DTSTART:20260329T010000
END:DAYLIGHT
BEGIN:STANDARD
TZOFFSETFROM:+0100
TZOFFSETTO:+0000
TZNAME:GMT
DTSTART:20261025T010000
END:STANDARD
BEGIN:DAYLIGHT
TZOFFSETFROM:+0000
TZOFFSETTO:+0100
TZNAME:BST
DTSTART:20270328T010000
END:DAYLIGHT
BEGIN:STANDARD
TZOFFSETFROM:+0100
TZOFFSETTO:+0000
TZNAME:GMT
DTSTART:20271031T010000
END:STANDARD
END:VTIMEZONE
BEGIN:VEVENT
DTSTART;VALUE=DATE:20260430
DTEND;VALUE=DATE:20260511
DTSTAMP:20260425T181417
CREATED:20260121T095829Z
LAST-MODIFIED:20260121T095838Z
UID:10000655-1777507200-1778457599@northerndivisioncamc.co.uk
SUMMARY:Flamborough and Bridlington
DESCRIPTION:Hartendale farm\, West Street\, Flamborough\, Bridlington\, YO15 1PH \nDetails\nHoliday Rally 10 Nights minimum 3 Nights \nGreat location for Flamborough Village\, coastal cliff paths\, Danes Dyke\, Bridlington and Filey. \nRally Fee: £16 per night
URL:https://northerndivisioncamc.co.uk/event/flamborough-and-bridlington/
LOCATION:Hartendale farm\, Flamborough\, YO15 1PH\, United Kingdom
CATEGORIES:Holiday,Weekend plus
ATTACH;FMTTYPE=image/webp:https://northerndivisioncamc.co.uk/wp-content/uploads/2026/01/yp-hartingdale-farm.webp
END:VEVENT
BEGIN:VEVENT
DTSTART;VALUE=DATE:20260501
DTEND;VALUE=DATE:20260507
DTSTAMP:20260425T181417
CREATED:20250102T113736Z
LAST-MODIFIED:20260126T151906Z
UID:10000476-1777593600-1778111999@northerndivisioncamc.co.uk
SUMMARY:Canalside
DESCRIPTION:Crooklands Farm\, Crooklands\, Kendal\, LA7 7NW \nKendal – Kirkby Lonsdale\, bus stop outside site (limited service).\nNarrow boat trips on the canal at the weekend for a donation. \nPlease be aware that the site borders an unfenced canal. May be some noise from M6. \nNIGHTLY COST- £12.50\nVAN LIMIT- 25\nHARDSTANDING- NO\nEHU- NO\nRALLY OPEN TIME- 11AM
URL:https://northerndivisioncamc.co.uk/event/canalside/
LOCATION:Crooklands Farm\, LA7 7NW\, United Kingdom
CATEGORIES:Holiday,Weekend,Weekend plus
ATTACH;FMTTYPE=image/webp:https://northerndivisioncamc.co.uk/wp-content/uploads/2025/01/cnl-crooklands.webp
END:VEVENT
BEGIN:VEVENT
DTSTART;VALUE=DATE:20260510
DTEND;VALUE=DATE:20260516
DTSTAMP:20260425T181417
CREATED:20250102T174827Z
LAST-MODIFIED:20260126T152951Z
UID:10000483-1778371200-1778889599@northerndivisioncamc.co.uk
SUMMARY:Bay View
DESCRIPTION:Bay View Caravan Park\, Bolton-le-Sands\, Morecambe\, LA5 8ES \nWe return to this lovely\, designated rally field overlooking Morecambe Bay\, with use of the onsite bar and café.\nThere are also other pubs and restaurants close by.\nThis venue is great for visiting Morecambe\, Lancaster\, and the RSPB reserve at Leighton Moss. \nNIGHTLY COST- £14.50\nVAN LIMIT- 15\nHARDSTANDING- NO\nEHU- NO\nRALLY OPEN TIME- 1PM
URL:https://northerndivisioncamc.co.uk/event/bay-view/
LOCATION:Bay View Caravan Park\, LA5 8ES\, United Kingdom
CATEGORIES:Holiday,Weekend plus
ATTACH;FMTTYPE=image/webp:https://northerndivisioncamc.co.uk/wp-content/uploads/2025/01/cnl-bay-view-caravan-park.webp
END:VEVENT
BEGIN:VEVENT
DTSTART;VALUE=DATE:20260512
DTEND;VALUE=DATE:20260522
DTSTAMP:20260425T181417
CREATED:20250115T173714Z
LAST-MODIFIED:20260128T134155Z
UID:10000538-1778544000-1779407999@northerndivisioncamc.co.uk
SUMMARY:Ambleside
DESCRIPTION:Ambleside RUFC Committee\, Ambleside Rugby Club\, Borrans Road\, Ambleside LA22 0EN \nRally field is within walking distance of Ambleside.\nBar will be open on some nights with quiz on Wednesday & live entertainment on another.\nOn field activities to be arranged. \nSTRICTLY BREATHABLE GROUNDSHEETS ONLY PERMITTED. \nNote that field may not be suitable for motorhomes following very wet weather.
URL:https://northerndivisioncamc.co.uk/event/ambleside/
LOCATION:Ambleside Rugby Club\, LA22 0EN\, United Kingdom
CATEGORIES:Holiday,Weekend plus
ATTACH;FMTTYPE=image/webp:https://northerndivisioncamc.co.uk/wp-content/uploads/2025/01/nyc-ambleside-rufc.webp
END:VEVENT
BEGIN:VEVENT
DTSTART;VALUE=DATE:20260515
DTEND;VALUE=DATE:20260523
DTSTAMP:20260425T181417
CREATED:20241210T093959Z
LAST-MODIFIED:20260126T213658Z
UID:10000432-1778803200-1779494399@northerndivisioncamc.co.uk
SUMMARY:South Cliff Holiday Park
DESCRIPTION:South Cliff Holiday Park\, Bridlington\, YO15 3QN \nThe site has full facilities including EHU.\nOn a good bus route or just a half hour stroll along the Promenade into Bridlington\, or use the land train.\nAll the East Coast Resorts are within comfortable driving distance.\nPlease write your registration number clearly on booking slip. \nClubhouse and Restaurant on site.
URL:https://northerndivisioncamc.co.uk/event/south-cliff-holiday-park-2/
LOCATION:South Cliff Holiday Park\, Bridlington\, YO15 3QN\, United Kingdom
CATEGORIES:Holiday,Weekend plus
ATTACH;FMTTYPE=image/webp:https://northerndivisioncamc.co.uk/wp-content/uploads/2024/12/eyc-south-cliff-1.webp
END:VEVENT
BEGIN:VEVENT
DTSTART;VALUE=DATE:20260521
DTEND;VALUE=DATE:20260526
DTSTAMP:20260425T181417
CREATED:20241208T181813Z
LAST-MODIFIED:20260120T154720Z
UID:10000404-1779321600-1779753599@northerndivisioncamc.co.uk
SUMMARY:Newstead Abbey
DESCRIPTION:Newstead Abbey\, Mansfield\, Nottinghamshire\, NG15 9HJ \nAttractions:- Explore the picturesque house and gardens of Lord Byron’s home\, with walks and waterfalls in the grounds.\nDirect access to the gardens from the rally field free of charge during opening hours.\nFor house tickets please go to the Newstead Abbey web site. \nRally Fee:- £16 per night.
URL:https://northerndivisioncamc.co.uk/event/newstead-abbey/
LOCATION:Newstead Abbey\, NG15 9HJ\, United Kingdom
CATEGORIES:Holiday,Weekend,Weekend plus
ATTACH;FMTTYPE=image/webp:https://northerndivisioncamc.co.uk/wp-content/uploads/2024/12/mwyc-newstead-abbey.webp
END:VEVENT
BEGIN:VEVENT
DTSTART;VALUE=DATE:20260521
DTEND;VALUE=DATE:20260526
DTSTAMP:20260425T181417
CREATED:20250115T180343Z
LAST-MODIFIED:20260128T134833Z
UID:10000540-1779321600-1779753599@northerndivisioncamc.co.uk
SUMMARY:Durham RUFC
DESCRIPTION:Durham RUFC\, Hollow Drift. Green Lane. Durham. DH1 3JU \nSite is within easy walking distance to the beautiful city of Durham accessible by flat riverside path.
URL:https://northerndivisioncamc.co.uk/event/durham-rufc/
LOCATION:Durham RUFC\, DH1 3JU\, United Kingdom
CATEGORIES:Holiday,Weekend,Weekend plus
ATTACH;FMTTYPE=image/webp:https://northerndivisioncamc.co.uk/wp-content/uploads/2025/01/nyc-durham-rufc.webp
END:VEVENT
BEGIN:VEVENT
DTSTART;VALUE=DATE:20260522
DTEND;VALUE=DATE:20260527
DTSTAMP:20260425T181417
CREATED:20241209T220948Z
LAST-MODIFIED:20260127T093538Z
UID:10000426-1779408000-1779839999@northerndivisioncamc.co.uk
SUMMARY:Peaceful Week in Swinethorpe
DESCRIPTION:CamperUK Leisure Park\, Swinethorpe\, Lincolnshire\, NG23 7EE \nFishing on site\, Country walks and cycle paths nearby.\nShort journey into Lincoln\, Newark and Retford. Sherwood Forest\, Rufforth Country Park and Clumber Park are within an easy drive. Doddington Hall is nearby with lovely gardens\, farm shop and café. \nThere will be shelter for quizzes\, games and bingo.\nWe will have a cream tea afternoon plus cheese and biscuits one evening.\nWe will also be having a supper one evening (there will be a small charge).\nWeather permitting a games afternoon with Pimm’s.\nIf there are enough people interested\, we may organise a meal out.
URL:https://northerndivisioncamc.co.uk/event/peaceful-week-in-the-country-easter-holiday/
LOCATION:Camper UK\, NG23 7EE\, United Kingdom
CATEGORIES:Holiday,Weekend plus
ATTACH;FMTTYPE=image/webp:https://northerndivisioncamc.co.uk/wp-content/uploads/2024/12/eyc-camperuk-1.webp
END:VEVENT
BEGIN:VEVENT
DTSTART;VALUE=DATE:20260522
DTEND;VALUE=DATE:20260527
DTSTAMP:20260425T181417
CREATED:20260121T101855Z
LAST-MODIFIED:20260121T101855Z
UID:10000656-1779408000-1779839999@northerndivisioncamc.co.uk
SUMMARY:Spring Bank @ Hollingworth Lake Country Park
DESCRIPTION:Hollingworth Lake Caravan Park\, Round House Farm\, Littleborough\, OL15 0AS \nBank Holiday Rally 3 nights.\nOptional Thursday and Monday nights available \nCome join us for the Spring Bank Holiday at the picturesque Hollingworth Lake Caravan Park set alongside the award-winning Hollingworth Lake. Families are welcome as there is lots to do for children. The Hollingworth Lake Country Park Visitors Centre and play area for children are within easy walking distance. For the more adventurous\, the Water Activity Centre is also nearby. \nIncluded in the weekend will be an optional Saturday morning walk\, run or cycle around the lake. Saturday night social in the shelters. Sunday afternoon scones with jam and cream. Sunday night social in the shelters. Monday\, enjoy the surrounding area at your leisure. There are direct trains from nearby Littleborough to destinations including Manchester\, Leeds\, Todmorden and Hebden Bridge. \nRally Fee: 3 nights £48.50\, additional nights £15.00 per night. No EHU.
URL:https://northerndivisioncamc.co.uk/event/spring-bank-hollingworth-lake-country-park/
LOCATION:Hollingworth Lake Caravan Park\, Littleborough\, OL15 0AS\, United Kingdom
CATEGORIES:Holiday,Weekend plus
ATTACH;FMTTYPE=image/webp:https://northerndivisioncamc.co.uk/wp-content/uploads/2026/01/yp-hollingworth.webp
END:VEVENT
BEGIN:VEVENT
DTSTART;VALUE=DATE:20260522
DTEND;VALUE=DATE:20260601
DTSTAMP:20260425T181417
CREATED:20250102T161803Z
LAST-MODIFIED:20260126T153416Z
UID:10000479-1779408000-1780271999@northerndivisioncamc.co.uk
SUMMARY:Half Term at Braithwaite
DESCRIPTION:Braithwaite Sports Field\, Braithwaite Institute\, Braithwaite\, CA12 5RY \nSocial in the village hall.Social in the hall. Event 2 of our Sports Series will be during this rally. \nToilets and showers including accessible facilities are available in the hall. \nWhinlatter Forest is easily accessible from the site (2.8m).\nFootpaths all the way to Keswick (2.5m). \nNIGHTLY COST- £23.50\nVAN LIMIT- 50\nHARDSTANDING- NO\nEHU- NO\nRALLY OPEN TIME- 1PM
URL:https://northerndivisioncamc.co.uk/event/half-term-at-braithwaite/
LOCATION:Braithwaite Sports Field\, Braithwaite\, CA12 5RY
CATEGORIES:Holiday,Weekend plus
ATTACH;FMTTYPE=image/webp:https://northerndivisioncamc.co.uk/wp-content/uploads/2025/01/cnl-braithwaite.webp
END:VEVENT
BEGIN:VEVENT
DTSTART;VALUE=DATE:20260522
DTEND;VALUE=DATE:20260601
DTSTAMP:20260425T181417
CREATED:20260121T140228Z
LAST-MODIFIED:20260121T140228Z
UID:10000662-1779408000-1780271999@northerndivisioncamc.co.uk
SUMMARY:Budle - Spring Bank Holiday Rally
DESCRIPTION:Budle Farm Campsite\, Belford\, Northumberland\, England\, NE70 7EE\, Belford\, NE69 7AL \nWelcome to our Spring Holiday Rally at Budle Bay. This venue is an lovely area with a supper view over the bay of Budle bay.\nAlso an ideal spot for holly island and Seahouses with boats trips to the Farne islands if your looking you might see the sea wildlife.\nPlease note level blocks ARE REQUIED at this venue Thank you for booking with Northumberland Centre \nPleas note LEAVELING BLOCKS ARE REQUIED at this venue.
URL:https://northerndivisioncamc.co.uk/event/budle-spring-bank-holiday-rally/
LOCATION:Budle Farm\,\, NE69 7AL
CATEGORIES:Holiday,Weekend plus
ATTACH;FMTTYPE=image/webp:https://northerndivisioncamc.co.uk/wp-content/uploads/2026/01/nc-budle-farm.webp
END:VEVENT
BEGIN:VEVENT
DTSTART;VALUE=DATE:20260523
DTEND;VALUE=DATE:20260601
DTSTAMP:20260425T181417
CREATED:20260119T143227Z
LAST-MODIFIED:20260323T163914Z
UID:10000639-1779494400-1780271999@northerndivisioncamc.co.uk
SUMMARY:Whitby Holiday Rally 2026
DESCRIPTION:Broadings Farm Caravan Site\, Guisborough Road\, Whitby\, YO21 1TL \nATTRACTIONS:\nSituated only 1 mile from the popular seaside town of Whitby\, North Yorkshire\, lie Broadings Farm Holiday Cottages & Caravan Site.\nThe site is within easy reach of the beautiful North Yorkshire Coast and North Yorkshire Moors National Park and in walking distance into Whitby.\nThe site is ideal base to explore the surrounding area and the many quaint villages\, including Staithes\, Runswick Bay\, Robin Hood’s Bay and Grosmont to mention a few. The brooding North Yorkshire Moors are only a short distance away.\nThis is the home of the North Yorkshire Moors Railway and of course the ‘Heartbeat’ village of Goathland.\nThere is so much to see and do here.\nFor those not wanting to drive\, The Stables Pub & Restaurant (Dog Friendly) is 8 mins walk from the field\, so is the Park & Ride Service which covers many of the North Coast Resorts. \nRALLY FEE: £160 Full rally fee to be paid by 3rd May 2026
URL:https://northerndivisioncamc.co.uk/event/whitby-holiday-rally-2026/
LOCATION:Broadings Farm\, Whitby\, YO21 1TL\, United Kingdom
CATEGORIES:Holiday
ATTACH;FMTTYPE=image/webp:https://northerndivisioncamc.co.uk/wp-content/uploads/2026/01/syc-whitby.webp
END:VEVENT
BEGIN:VEVENT
DTSTART;VALUE=DATE:20260525
DTEND;VALUE=DATE:20260531
DTSTAMP:20260425T181417
CREATED:20241210T104552Z
LAST-MODIFIED:20260127T094915Z
UID:10000435-1779667200-1780185599@northerndivisioncamc.co.uk
SUMMARY:Whitby Abbey
DESCRIPTION:Abbey Farm Caravan Site\, Whitby\, YO22 4JR \nWhitby is at the bottom of the staircase (199 steps) that leads from behind the Abbey ruins.\nWhitby has had a long association with Jet\, Captain Cook and Dracula.\nFor those not feeling up to the walk down and climb back up the 199 steps there is an alternative pedestrian route and a vehicle access also the City Sight-seeing tours bus passes by the rally field several times a day.\nNearer to the site is a micro-brewery which serves various drinks and depending on timing they serve Pizzas. \nSome social events will be organised and any charges will be collected at the rally.\nMore details will be provided nearer the time of the rally.
URL:https://northerndivisioncamc.co.uk/event/whitby-abbey/
LOCATION:Abbey Farm\, Whitby\, YO22 4JR\, United Kingdom
CATEGORIES:Holiday,Weekend plus
ATTACH;FMTTYPE=image/webp:https://northerndivisioncamc.co.uk/wp-content/uploads/2024/12/eyc-whitby-1.webp
END:VEVENT
END:VCALENDAR