BEGIN:VCALENDAR
VERSION:2.0
PRODID:-//Northern Division - ECPv6.15.20//NONSGML v1.0//EN
CALSCALE:GREGORIAN
METHOD:PUBLISH
X-WR-CALNAME:Northern Division
X-ORIGINAL-URL:https://northerndivisioncamc.co.uk
X-WR-CALDESC:Events for Northern Division
REFRESH-INTERVAL;VALUE=DURATION:PT1H
X-Robots-Tag:noindex
X-PUBLISHED-TTL:PT1H
BEGIN:VTIMEZONE
TZID:Europe/London
BEGIN:DAYLIGHT
TZOFFSETFROM:+0000
TZOFFSETTO:+0100
TZNAME:BST
DTSTART:20250330T010000
END:DAYLIGHT
BEGIN:STANDARD
TZOFFSETFROM:+0100
TZOFFSETTO:+0000
TZNAME:GMT
DTSTART:20251026T010000
END:STANDARD
BEGIN:DAYLIGHT
TZOFFSETFROM:+0000
TZOFFSETTO:+0100
TZNAME:BST
DTSTART:20260329T010000
END:DAYLIGHT
BEGIN:STANDARD
TZOFFSETFROM:+0100
TZOFFSETTO:+0000
TZNAME:GMT
DTSTART:20261025T010000
END:STANDARD
BEGIN:DAYLIGHT
TZOFFSETFROM:+0000
TZOFFSETTO:+0100
TZNAME:BST
DTSTART:20270328T010000
END:DAYLIGHT
BEGIN:STANDARD
TZOFFSETFROM:+0100
TZOFFSETTO:+0000
TZNAME:GMT
DTSTART:20271031T010000
END:STANDARD
END:VTIMEZONE
BEGIN:VEVENT
DTSTART;VALUE=DATE:20260626
DTEND;VALUE=DATE:20260706
DTSTAMP:20260425T210921
CREATED:20250104T184710Z
LAST-MODIFIED:20260121T103354Z
UID:10000511-1782432000-1783295999@northerndivisioncamc.co.uk
SUMMARY:Lockside Caravan Park
DESCRIPTION:Lockside Caravan Park\, Littlethorpe Road\, Ripon\, HG4 1TZ \nHoliday Rally \nLockside is situated on a short walk from Ripon Town centre. Limited EHU on a pay as you go card system\, please indicate if hook up is required. Social hall on site. Holiday programme to run throughout the week with Fish and Chips on both Saturdays [at extra cost]. Please note no groundsheets allowed. \nRally Fee: £15 per night Minimum 2 nights
URL:https://northerndivisioncamc.co.uk/event/lockside-caravan-park/
LOCATION:Lockside CaravanPark\, HG4 1TZ\, United Kingdom
CATEGORIES:Holiday,Weekend,Weekend plus
ATTACH;FMTTYPE=image/webp:https://northerndivisioncamc.co.uk/wp-content/uploads/2025/01/yp-lockside-cp.webp
END:VEVENT
BEGIN:VEVENT
DTSTART;VALUE=DATE:20260628
DTEND;VALUE=DATE:20260706
DTSTAMP:20260425T210921
CREATED:20241208T155642Z
LAST-MODIFIED:20260119T151452Z
UID:10000397-1782604800-1783295999@northerndivisioncamc.co.uk
SUMMARY:Bakewell Carnival Week 2026
DESCRIPTION:Bakewell Showground\, Agricultural Way\, Bakewell\, DE45 1AW \nRALLY FEE: The Bakewell Carnival week is back!!! You can join the rally on any of the days. \nSunday Arrival\, 7 Nights = £115.00\nMonday Arrival\, 6 Nights = £96.00\nTuesday Arrival\, 5 Nights = £80.00\nWednesday Arrival\, 4 Nights = £66.00\nThursday Arrival\, 3 Nights = £49.00\nFriday Arrival\, 2 Nights = £35.00 \nATTRACTIONS:\nPlease keep a look out on our Facebook page\, SYC Website and the Bakewell Carnival Website for updates as we get closer to the Carnival.\nWe will be entering a float into the parade in this years theme. All children are welcome on the float.\nArrivals only from 11.00am daily.\nFull week of local events plus a few rally additions. \nItinerary will be updated closer to the time \nSunday 28th June\nRally opens 1pm \nMonday 29th June\nBakewell Market – Town centre – All day\nRaft Race practice night – Scots Gardens Meadow – 6.30pm\nCarnival Darts – Working Men’s Club – 6.30pm\nCarnival Quiz – Manner Hotel – 7.30pm \nTuesday 30th June\nBakewell Pet Show – Recreation Ground – 6.30pm\nCarnival Chipping Out Domino Competition – Working Men’s Club – 8.00pm \nWednesday 1st July\nTeddy Bears Picnic – Recreation Ground 12.30pm\nBakewell Bingo – Wheatsheaf – 7.00pm \nThursday 2nd July\nBakewell Raft Race – Scots Gardens Meadow – 7.00pm\nJack Russell Races – Recreation Ground – 8.00pm\nTug o War – Recreation Ground – 8.30pm \nFriday 3th July\nChildren’s Sports – Recreation Ground – 5.30pm\nWheelbarrow & Welly Race – 7.00pm \nSaturday 4th July Carnival Day\nBakewell Carnival \nRally Closes Sunday 5th Jyly 12 noon \nLots of shops & attractions in the town. We will be entering a float in the parade with the centre theme of ‘Egyptians’.\nAll children welcome on the float.\nPlease bring along anything you may have to help decorate the float.
URL:https://northerndivisioncamc.co.uk/event/bakewell-carnival-2025-week/
LOCATION:Bakewell Showground\, DE45 1AW\, United Kingdom
CATEGORIES:Holiday,Weekend,Weekend plus
ATTACH;FMTTYPE=image/webp:https://northerndivisioncamc.co.uk/wp-content/uploads/2024/12/syc-bakewell-carnival.webp
END:VEVENT
BEGIN:VEVENT
DTSTART;VALUE=DATE:20260704
DTEND;VALUE=DATE:20260719
DTSTAMP:20260425T210922
CREATED:20260127T130754Z
LAST-MODIFIED:20260127T130754Z
UID:10000677-1783123200-1784419199@northerndivisioncamc.co.uk
SUMMARY:Shropshire Canal Rally
DESCRIPTION:Whittington Wharf\, Ellesmere Road\, Welsh Frankton\, Oswestry SY11 4NU \nThere are numerous places of interest within a modest drive from the rally field\, including Ironbridge\, Telford\, Oswestry and the famous Pontcysyllte Aqueduct near Llangollen which carries the Llangollen Canal over the River Dee.\nChester is a City with a lot of interest and within a short drive there are numerous Churches and Castles.\nThe Welsh border is not far from the rally field and there are many interesting places ‘over the border’\, including Welshpool.\nThere are many good walks in the area including the towpath of the Shropshire Branch of the Llangollen Canal. \nSome social events will be organised and any charges will be collected at the rally.\nMore details will be provided nearer the time of the rally.\nWe will have access to a marquee for the full duration of the rally and are investigating a meal in the local pub (just a few yards from the rally field.\nFor social events in the marquee\, we are considering a wine and cheese evening\, bacon sandwiches and various fun and games evenings.\nWe will have the marquee open every evening\, but only envisage providing entertainment every other evening.\nThe site owners have a couple of day boats which will be made available for hire by groups of up to 12 ralliers for around £120.00 per day.\nAs fuel etc is subject to inflation we cannot confirm the exact price per day until nearer the rally.
URL:https://northerndivisioncamc.co.uk/event/shropshire-canal-rally/
LOCATION:Whittington Wharf\, Oswestry\, SY11 4NU\, United Kingdom
CATEGORIES:Holiday,Weekend plus
ATTACH;FMTTYPE=image/webp:https://northerndivisioncamc.co.uk/wp-content/uploads/2026/01/eyc-whittington.webp
END:VEVENT
BEGIN:VEVENT
DTSTART;VALUE=DATE:20260710
DTEND;VALUE=DATE:20260718
DTSTAMP:20260425T210922
CREATED:20241210T145455Z
LAST-MODIFIED:20260127T131645Z
UID:10000443-1783641600-1784332799@northerndivisioncamc.co.uk
SUMMARY:Holiday Rally at RYYC Wilsthorpe
DESCRIPTION:Royal Yorkshire Yacht Club\, Wilsthorpe\, YO15 3QL \nWalk down to the beach from the rally site.\nWalk into Bridlington. Close to Hornsea\, Filey and Scarborough. \nWhite tent will be up for evening socials.
URL:https://northerndivisioncamc.co.uk/event/holiday-rally-at-ryyc-wilsthorpe/
LOCATION:Royal Yorkshire Yacht Club\, YO15 3QL\, United Kingdom
CATEGORIES:Holiday,Weekend plus
ATTACH;FMTTYPE=image/webp:https://northerndivisioncamc.co.uk/wp-content/uploads/2024/12/eyc-royal-yacht-club.webp
END:VEVENT
BEGIN:VEVENT
DTSTART;VALUE=DATE:20260714
DTEND;VALUE=DATE:20260722
DTSTAMP:20260425T210922
CREATED:20250116T140837Z
LAST-MODIFIED:20260128T145953Z
UID:10000553-1783987200-1784678399@northerndivisioncamc.co.uk
SUMMARY:Prospect 7
DESCRIPTION:Church View\, Hutton-le-Hole\, York\, YO62 6UA\n\n\nSite set in the centre of a quiet village in the North Yorkshire Moors National Park.\nIdeal walking area.\nThe Ryedale Folk museum is a short walk away\, within easy reach of York\, Scarborough\, Helmsley\, Whitby & Pickering\, home of the North Yorkshire Steam Railway.\nOn site activities may be organised dependant on weather.
URL:https://northerndivisioncamc.co.uk/event/prospect-7/
LOCATION:Church View\, YO62 6UA\, United Kingdom
CATEGORIES:Holiday,Weekend,Weekend plus
ATTACH;FMTTYPE=image/webp:https://northerndivisioncamc.co.uk/wp-content/uploads/2025/01/nyc-church-view-hutton-le-hole.webp
END:VEVENT
BEGIN:VEVENT
DTSTART;VALUE=DATE:20260715
DTEND;VALUE=DATE:20260723
DTSTAMP:20260425T210922
CREATED:20250102T184633Z
LAST-MODIFIED:20260126T155229Z
UID:10000485-1784073600-1784764799@northerndivisioncamc.co.uk
SUMMARY:Summer Holiday Rally
DESCRIPTION:Ambleside Rugby Club\, Borrans Road\, Ambleside\, LA22 0EN \nOn site bar opening some evenings\, potential live music one night. Social planned. \nWalking distance to Ambleside and Hayes Garden Centre.\nFrequent bus service between Keswick and Kendal. \nNIGHTLY COST- £22\nVAN LIMIT- 30\nHARDSTANDING- NO\nEHU- NO\nRALLY OPEN TIME- 1PM
URL:https://northerndivisioncamc.co.uk/event/summer-holiday-rally/
LOCATION:Ambleside Rugby Club\, LA22 0EN\, United Kingdom
CATEGORIES:Holiday
ATTACH;FMTTYPE=image/webp:https://northerndivisioncamc.co.uk/wp-content/uploads/2025/01/cnl-ambleside-rugby-club.webp
END:VEVENT
BEGIN:VEVENT
DTSTART;VALUE=DATE:20260717
DTEND;VALUE=DATE:20260727
DTSTAMP:20260425T210922
CREATED:20250121T154051Z
LAST-MODIFIED:20260121T143712Z
UID:10000626-1784246400-1785110399@northerndivisioncamc.co.uk
SUMMARY:Summer Holiday Rally
DESCRIPTION:Link House Farm Holiday Cottages\, High Newton-by-the-Sea\, Alnwick\, NE66 3DF \nWelcome to Link House Farm Rally an new venue by Newton by the sea\, Northumberland Holiday Venue. \nRally Fee: from £36 for 2 nights up to £162 for 9 nights
URL:https://northerndivisioncamc.co.uk/event/summer-holiday-rally-2/
LOCATION:Link House Farm Holiday Cottages\, High Newton-by-the-Sea\, Alnwick\, NE66 3DF\, United Kingdom
CATEGORIES:Holiday,Weekend plus
ATTACH;FMTTYPE=image/webp:https://northerndivisioncamc.co.uk/wp-content/uploads/2025/01/nc-newton-by-the-sea.webp
END:VEVENT
BEGIN:VEVENT
DTSTART;VALUE=DATE:20260720
DTEND;VALUE=DATE:20260727
DTSTAMP:20260425T210922
CREATED:20250116T144332Z
LAST-MODIFIED:20260128T150220Z
UID:10000555-1784505600-1785110399@northerndivisioncamc.co.uk
SUMMARY:Runswick Bay
DESCRIPTION:Runswick Lane\, Runswick Bay\, TS13 5HR\n\nThe lovely sandy beach is close by.\nFestival week in Hinderwell so there will be events arranged in the village.\nGood walking area. Beautiful scenic drives along the North Yorkshire Coast from Staithes to Scarborough & the North Yorkshire Moors.\nUse the following postcode for the rally field TS13 5HR and then follow NYC signs.
URL:https://northerndivisioncamc.co.uk/event/runswick-bay/
LOCATION:Runswick Bay\, TS13 5HR\, United Kingdom
CATEGORIES:Holiday,Weekend plus
ATTACH;FMTTYPE=image/webp:https://northerndivisioncamc.co.uk/wp-content/uploads/2025/01/nyc-runswick-bay.webp
END:VEVENT
BEGIN:VEVENT
DTSTART;VALUE=DATE:20260722
DTEND;VALUE=DATE:20260727
DTSTAMP:20260425T210922
CREATED:20250102T182710Z
LAST-MODIFIED:20260126T155601Z
UID:10000484-1784678400-1785110399@northerndivisioncamc.co.uk
SUMMARY:Summer by the Sea
DESCRIPTION:Old Kiln Farm\, Allonby\, Maryport\, CA16 6QF \nToilets and showers on site. \nThe site is only 100 meters from a sandy beach and set in a quiet position with views of the Scottish hills and Skiddaw.\nA mile away is the rural seaside village of Allonby\, which has a couple of pubs and the very popular ice cream shop.\nSmall boats can be launched from the beach and there is fishing available nearby.\nGolf\, horse riding\, cycle hire and clay pigeon shooting (see owners) and many more available within Allonby or Silloth.\nEasy access to all amenities and very central to explore the Solway coast and the Lake District. \nNIGHTLY COST- £16\nVAN LIMIT- 30\nHARDSTANDING- NO\nEHU- NO\nRALLY OPEN TIME- 11AM
URL:https://northerndivisioncamc.co.uk/event/summer-by-the-sea/
LOCATION:Old Kiln Farm\, CA15 6QF\, United Kingdom
CATEGORIES:Holiday,Weekend plus
ATTACH;FMTTYPE=image/webp:https://northerndivisioncamc.co.uk/wp-content/uploads/2025/01/cnl-old-kiln-farm.webp
END:VEVENT
BEGIN:VEVENT
DTSTART;VALUE=DATE:20260724
DTEND;VALUE=DATE:20260801
DTSTAMP:20260425T210922
CREATED:20241210T142409Z
LAST-MODIFIED:20260127T132640Z
UID:10000442-1784851200-1785542399@northerndivisioncamc.co.uk
SUMMARY:Irton Mount
DESCRIPTION:Irton Mount\, YO12 5TG \nScarborough 3½ miles away\, games afternoon\, evenings in the shed.\nScarborough Fair Museum nearby. \nQuiz evenings in the shed\, 2 evenings with food\, bacon sandwiches on Saturday and Sunday morning.
URL:https://northerndivisioncamc.co.uk/event/irton-mount/
LOCATION:Irton Mount\, Scarborough\, YO12 5TG
CATEGORIES:Holiday,Weekend plus
ATTACH;FMTTYPE=image/webp:https://northerndivisioncamc.co.uk/wp-content/uploads/2024/12/eyc-irton-mount.webp
END:VEVENT
BEGIN:VEVENT
DTSTART;VALUE=DATE:20260724
DTEND;VALUE=DATE:20260801
DTSTAMP:20260425T210922
CREATED:20260128T154729Z
LAST-MODIFIED:20260128T154735Z
UID:10000682-1784851200-1785542399@northerndivisioncamc.co.uk
SUMMARY:Fraisthorpe
DESCRIPTION:Auburn Farm\, Fraisthorpe\, Bridlington\, East Yorkshire YO15 3QU\n\nFlat field with direct access to the beach\,\nBridlington about 2.5 mile walk along beach.\nCafe on site.\nChildren’s competitions on the beach.\nShort drive (20-25 mins) to Filey or Driffield\, Scarborough is a about a 40 minute drive or you can use the park and ride.\n\nPLEASE MAKE SURE YOUR REGISTRATION IS CLEAR ON THE BOOKING SLIP (ANPR on entrance). These will be handed in to the company overseeing the car park so you do not receive a parking fine.\nAny of your visitors must pay to park.
URL:https://northerndivisioncamc.co.uk/event/fraisthorpe/
LOCATION:Fraisthorpe\, Bridlington\, YO15 3QU\, United Kingdom
CATEGORIES:Holiday,Weekend,Weekend plus
ATTACH;FMTTYPE=image/webp:https://northerndivisioncamc.co.uk/wp-content/uploads/2026/01/nyc-fraisthorpe.webp
END:VEVENT
BEGIN:VEVENT
DTSTART;VALUE=DATE:20260726
DTEND;VALUE=DATE:20260803
DTSTAMP:20260425T210922
CREATED:20260120T143607Z
LAST-MODIFIED:20260120T143607Z
UID:10000648-1785024000-1785715199@northerndivisioncamc.co.uk
SUMMARY:Dalescape Trilogy Part 3
DESCRIPTION:Little Bank Bungalow\, Rathmell\, Settle\, BD24 0AJ \nSet in the heart of the Yorkshire Dales this rally is ideal for enjoying the great outdoors\, Numerous walks can be found\, such as Catrigg Force waterfall. The Yorkshire Three Peaks of Ingleborough\, Pen-y-gent and Whernside can be tackled either separately\, or as part of our organised walk. \nRally Opens: 1pm Sunday 26th July 2026\nRally Closes 4pm Sunday 2nd August 2026 \nRally Fee: Various site nights available – see bookwhen for details
URL:https://northerndivisioncamc.co.uk/event/dalescape-trilogy-part-3/
LOCATION:Little Bank Bungalow\, Settle\, BD24 0AJ\, United Kingdom
CATEGORIES:Holiday,Weekend,Weekend plus
ATTACH;FMTTYPE=image/webp:https://northerndivisioncamc.co.uk/wp-content/uploads/2026/01/da-c-settle.webp
END:VEVENT
BEGIN:VEVENT
DTSTART;VALUE=DATE:20260731
DTEND;VALUE=DATE:20260808
DTSTAMP:20260425T210922
CREATED:20260127T172415Z
LAST-MODIFIED:20260127T172723Z
UID:10000678-1785456000-1786147199@northerndivisioncamc.co.uk
SUMMARY:Holiday Rally in the Yorkshire Dales
DESCRIPTION:Riverside\, Moorfoot Lane\, Cononley\, BD20 8LX \nThe rally field has gorgeous views of surrounding hills and countryside and a short walk (5 minutes) to village (2 dog friendly pubs) and train station to Skipton\, Saltaire\, Keighley (Worth Valley Railway)\, Skipton walk by canal 3 miles\, ‘Gateway to the Dales’. \nBookable meal Sunday evening in local pub (set menu) and quiz after. Walk\, afternoon of games\, Pimm’s / scones\, weather depending. Evening catch ups\, quiz in pub Thursday.
URL:https://northerndivisioncamc.co.uk/event/holiday-rally-in-the-yorkshire-dales/
LOCATION:Riverside\, Cononley\, BD20 8LX
CATEGORIES:Holiday,Weekend plus
ATTACH;FMTTYPE=image/webp:https://northerndivisioncamc.co.uk/wp-content/uploads/2026/01/eyc-cononley-1.webp
END:VEVENT
BEGIN:VEVENT
DTSTART;VALUE=DATE:20260731
DTEND;VALUE=DATE:20260810
DTSTAMP:20260425T210922
CREATED:20250121T154539Z
LAST-MODIFIED:20260121T145356Z
UID:10000627-1785456000-1786319999@northerndivisioncamc.co.uk
SUMMARY:Beach Tree Farm Campsite
DESCRIPTION:Beech Tree Farm\, Carr Lane\, Sutton On The Forest\, YO61 1EY \nWelcome to our Venue at Beech Tree Farm caravan site located 10mile from York\, we have regular buses running to York and Easingwold we are about 5 min walk from village Sutton on the forest\, great pub in village for food drink.
URL:https://northerndivisioncamc.co.uk/event/beach-tree-farm-campsite/
LOCATION:Beech Tree Farm\, YO61 1EY\, United Kingdom
CATEGORIES:Holiday,Weekend plus
ATTACH;FMTTYPE=image/webp:https://northerndivisioncamc.co.uk/wp-content/uploads/2025/01/nc-beach-tree-farm-campsite.webp
END:VEVENT
END:VCALENDAR