BEGIN:VCALENDAR
VERSION:2.0
PRODID:-//Northern Division - ECPv6.15.20//NONSGML v1.0//EN
CALSCALE:GREGORIAN
METHOD:PUBLISH
X-WR-CALNAME:Northern Division
X-ORIGINAL-URL:https://northerndivisioncamc.co.uk
X-WR-CALDESC:Events for Northern Division
REFRESH-INTERVAL;VALUE=DURATION:PT1H
X-Robots-Tag:noindex
X-PUBLISHED-TTL:PT1H
BEGIN:VTIMEZONE
TZID:Europe/London
BEGIN:DAYLIGHT
TZOFFSETFROM:+0000
TZOFFSETTO:+0100
TZNAME:BST
DTSTART:20250330T010000
END:DAYLIGHT
BEGIN:STANDARD
TZOFFSETFROM:+0100
TZOFFSETTO:+0000
TZNAME:GMT
DTSTART:20251026T010000
END:STANDARD
BEGIN:DAYLIGHT
TZOFFSETFROM:+0000
TZOFFSETTO:+0100
TZNAME:BST
DTSTART:20260329T010000
END:DAYLIGHT
BEGIN:STANDARD
TZOFFSETFROM:+0100
TZOFFSETTO:+0000
TZNAME:GMT
DTSTART:20261025T010000
END:STANDARD
BEGIN:DAYLIGHT
TZOFFSETFROM:+0000
TZOFFSETTO:+0100
TZNAME:BST
DTSTART:20270328T010000
END:DAYLIGHT
BEGIN:STANDARD
TZOFFSETFROM:+0100
TZOFFSETTO:+0000
TZNAME:GMT
DTSTART:20271031T010000
END:STANDARD
END:VTIMEZONE
BEGIN:VEVENT
DTSTART;VALUE=DATE:20260828
DTEND;VALUE=DATE:20260831
DTSTAMP:20260419T102250
CREATED:20250121T113424Z
LAST-MODIFIED:20260128T172751Z
UID:10000612-1787875200-1788134399@northerndivisioncamc.co.uk
SUMMARY:Southport Air Show
DESCRIPTION:Victoria Park\, Southport PR8 2BZ \nSouthport Air Show\nEHU available at extra charge
URL:https://northerndivisioncamc.co.uk/event/southport-air-show/
LOCATION:Victoria Park\, Southport\, PR8 2BZ\, United Kingdom
CATEGORIES:Weekend,Weekend plus
ATTACH;FMTTYPE=image/webp:https://northerndivisioncamc.co.uk/wp-content/uploads/2025/01/sl-airshow-1.webp
END:VEVENT
BEGIN:VEVENT
DTSTART;VALUE=DATE:20260828
DTEND;VALUE=DATE:20260901
DTSTAMP:20260419T102250
CREATED:20250121T155215Z
LAST-MODIFIED:20260121T173355Z
UID:10000628-1787875200-1788220799@northerndivisioncamc.co.uk
SUMMARY:Summer Bank Holiday
DESCRIPTION:High Chibburn Farm\, Widdrington\, Druridge Bay\, NE61 5EF \nThe field is about an 5- 10 min walk past the pools Bird Hides is the lovely coast line and golden sands. \nAttractions from the venue are 20 min drive North is a fishing village Amble with shops and harbour walks. A little further north past Amble is the village of Warkworth. Warkworth Castle is a ruined medieval building in Warkworth in the English county of Northumberland. With a river walk by the river coquet
URL:https://northerndivisioncamc.co.uk/event/druridge-bay/
LOCATION:High Chibburn Farm\, NE61 5EF\, United Kingdom
CATEGORIES:Holiday,Weekend plus
ATTACH;FMTTYPE=image/webp:https://northerndivisioncamc.co.uk/wp-content/uploads/2025/01/nc-druridge-bay.webp
END:VEVENT
BEGIN:VEVENT
DTSTART;VALUE=DATE:20260828
DTEND;VALUE=DATE:20260906
DTSTAMP:20260419T102250
CREATED:20241210T171718Z
LAST-MODIFIED:20260127T184241Z
UID:10000449-1787875200-1788652799@northerndivisioncamc.co.uk
SUMMARY:Chairman's Weekend and Holiday Rally at Wilsthorpe
DESCRIPTION:Royal Yorkshire Yacht Club\, Wilsthorpe\, Bridlington\, YO15 3QL \nFamily friendly rally next to the sandy beach.\nHandy for Bridlington and East Yorkshire attractions.\nWeekend rally for 3 nights\, extra night fee after that. \nChairman’s Bank Holiday weekend.\nActivities over the weekend plus Professional Entertainment\, surplus caravan equipment auction.\nFollowed by Holiday Rally with entertainment over the week.
URL:https://northerndivisioncamc.co.uk/event/chairmans-weekend-and-seaside-holiday/
LOCATION:Royal Yorkshire Yacht Club\, YO15 3QL\, United Kingdom
CATEGORIES:Holiday,Weekend plus
ATTACH;FMTTYPE=image/webp:https://northerndivisioncamc.co.uk/wp-content/uploads/2024/12/eyc-royal-yacht-club.webp
END:VEVENT
BEGIN:VEVENT
DTSTART;VALUE=DATE:20260903
DTEND;VALUE=DATE:20260907
DTSTAMP:20260419T102250
CREATED:20250116T170530Z
LAST-MODIFIED:20260128T160935Z
UID:10000561-1788393600-1788739199@northerndivisioncamc.co.uk
SUMMARY:Redcar Racecourse
DESCRIPTION:Redcar Racecourse\, Redcar Lane\, Redcar\, TS10 2BY\n\n\n\nRally site is close to Redcar town centre & the beach.\nVans sited in front of grandstand\, mostly hardstanding\, grass pitches also available\, please indicate on slip if required.\nRally Opens 12 noon   Limit 25 vans
URL:https://northerndivisioncamc.co.uk/event/redcar-racecourse-2/
LOCATION:Redcar Racecourse\, TS10 2BY\, United Kingdom
CATEGORIES:Weekend,Weekend plus
ATTACH;FMTTYPE=image/webp:https://northerndivisioncamc.co.uk/wp-content/uploads/2025/01/nyc-redcar-racecourse-1.webp
END:VEVENT
BEGIN:VEVENT
DTSTART;VALUE=DATE:20260903
DTEND;VALUE=DATE:20260908
DTSTAMP:20260419T102250
CREATED:20250102T213914Z
LAST-MODIFIED:20260126T165618Z
UID:10000488-1788393600-1788825599@northerndivisioncamc.co.uk
SUMMARY:Summers End
DESCRIPTION:Grasmere Sports Field\, Stocks Lane\, Grasmere LA22 9SL \nVarious walking routes direct from site and good public transport to Keswick\, Ambleside\, Windermere and beyond.\nPlenty of pubs and restaurants within walking distance\, plus a social club just off site.\nBattery charging available in the Pavilion. \nNIGHTLY COST- £25.50\nVAN LIMIT- 80 (Motorhome limit 20)\nHARDSTANDING- NO\nEHU- NO\nRALLY OPEN TIME- 1PM
URL:https://northerndivisioncamc.co.uk/event/summers-end/
LOCATION:Grasmere\, Cumbria\, LA22 9SL
CATEGORIES:Holiday,Weekend plus
ATTACH;FMTTYPE=image/webp:https://northerndivisioncamc.co.uk/wp-content/uploads/2024/12/cnl-grasmere.webp
END:VEVENT
BEGIN:VEVENT
DTSTART;VALUE=DATE:20260903
DTEND;VALUE=DATE:20260908
DTSTAMP:20260419T102250
CREATED:20250104T222527Z
LAST-MODIFIED:20260121T110823Z
UID:10000518-1788393600-1788825599@northerndivisioncamc.co.uk
SUMMARY:Bedale Rally Field
DESCRIPTION:Bedale Rally Field\, Bedale Camping and Caravan Club\, Burrill Road\, Bedale\, DL8 1RF \nOptional Thursday and Sunday nights available. \n10 minute walk into Bedale.\nWensleydale Railway\, Bedale Museum\, Morrisons Daily and Co Op\, White Bear for Food and Drink\, Mason of Yorkshire Distillery. \nRally Fee: £36 Thurs/Sunday night £16.50
URL:https://northerndivisioncamc.co.uk/event/bedale-rally-field/
LOCATION:Bedale\, North Yorkshire\, DL8 1RF
CATEGORIES:Weekend,Weekend plus
ATTACH;FMTTYPE=image/webp:https://northerndivisioncamc.co.uk/wp-content/uploads/2025/01/yp-bedale-cc.webp
END:VEVENT
BEGIN:VEVENT
DTSTART;VALUE=DATE:20260904
DTEND;VALUE=DATE:20260912
DTSTAMP:20260419T102250
CREATED:20241210T181354Z
LAST-MODIFIED:20260127T211433Z
UID:10000454-1788480000-1789171199@northerndivisioncamc.co.uk
SUMMARY:Chinese Takeaway Tollerton
DESCRIPTION:Tollerton Caravan Park\, Tollerton\, YO61 1RD \nFree fishing (please book in at Park Office). No electric hook up. Good for train spotting. \nTake-away Chinese meal on Saturday night\, fun and games for the rest of the week.
URL:https://northerndivisioncamc.co.uk/event/tollerton-holiday-rally/
LOCATION:Tollerton\, North Yorkshire\, YO61 1RD
CATEGORIES:Holiday,Weekend plus
ATTACH;FMTTYPE=image/webp:https://northerndivisioncamc.co.uk/wp-content/uploads/2024/12/eyc-tollerton.webp
END:VEVENT
BEGIN:VEVENT
DTSTART;VALUE=DATE:20260906
DTEND;VALUE=DATE:20260914
DTSTAMP:20260419T102250
CREATED:20250102T214625Z
LAST-MODIFIED:20260126T170118Z
UID:10000489-1788652800-1789343999@northerndivisioncamc.co.uk
SUMMARY:Here We Jervaulx Again!
DESCRIPTION:Park House\, Jervaulx\, Ripon HG25 4PH \nThis is a wonderful venue set in a peaceful walled garden area within the grounds of Jervaulx Abbey.\nJervaulx Abbey itself is just across the road and there are riverside walks straight from the site. \nThere is a bus stop at the site entrance and the site is situated halfway between Masham and Leyburn.\nThere are plenty of places to visit in the area including The Black Sheep brewery at Masham and the Chocolate Factory at Leyburn.\nThere are numerous pubs and restaurants in the area as well as Harrys Fish and Chips. \nBattery charging available. \nNIGHTLY COST- £17.30\nVAN LIMIT- 20\nHARDSTANDING- NO\nEHU- NO\nRALLY OPEN TIME- 1PM
URL:https://northerndivisioncamc.co.uk/event/here-we-jervaulx-again/
LOCATION:Jervaulx\, HG4 4PH\, United Kingdom
CATEGORIES:Holiday,Weekend plus
ATTACH;FMTTYPE=image/webp:https://northerndivisioncamc.co.uk/wp-content/uploads/2025/01/cnl-jervaulx.webp
END:VEVENT
BEGIN:VEVENT
DTSTART;VALUE=DATE:20260909
DTEND;VALUE=DATE:20260914
DTSTAMP:20260419T102250
CREATED:20250116T173530Z
LAST-MODIFIED:20260128T161228Z
UID:10000562-1788912000-1789343999@northerndivisioncamc.co.uk
SUMMARY:Orchard Cottage
DESCRIPTION:Studley Park\, Ripon\, HG4 3DZ\n\n\nThe site is within walking distance to Fountains Abbey and Studley Royal Deer Park.\nVisit Ripon where there is an array of shops\, pubs & a Cathedral.\nGarden centre nearby. Lovely walking area.
URL:https://northerndivisioncamc.co.uk/event/orchard-cottage/
LOCATION:Orchard Cottage\, HG4 3DZ\, United Kingdom
CATEGORIES:Weekend,Weekend plus
ATTACH;FMTTYPE=image/webp:https://northerndivisioncamc.co.uk/wp-content/uploads/2025/01/nyc-orchard-cottage.webp
END:VEVENT
BEGIN:VEVENT
DTSTART;VALUE=DATE:20260910
DTEND;VALUE=DATE:20260914
DTSTAMP:20260419T102250
CREATED:20250121T155815Z
LAST-MODIFIED:20260121T143319Z
UID:10000629-1788998400-1789343999@northerndivisioncamc.co.uk
SUMMARY:Brandon Farm
DESCRIPTION:Brandon Farm\, Powburn\, Alnwick\, NE66 4LP \nWelcome to the lovely area of Ingram in the heart of the cheviot hills in Northumberland. \nThis weekend as the yearly Ingram show on:\nA small Country Show with a warm atmosphere.\nA Great day out for all Involved!\nA community run small agricultural show with sheep judging\, agricultural and horticultural competitions\, traditional sports for all and lots lots more
URL:https://northerndivisioncamc.co.uk/event/brandon-farm/
LOCATION:Brandon Farm\, NE66 4LP
CATEGORIES:Weekend,Weekend plus
ATTACH;FMTTYPE=image/webp:https://northerndivisioncamc.co.uk/wp-content/uploads/2025/01/nc-brandon-farm.webp
END:VEVENT
BEGIN:VEVENT
DTSTART;VALUE=DATE:20260913
DTEND;VALUE=DATE:20260919
DTSTAMP:20260419T102250
CREATED:20250109T213224Z
LAST-MODIFIED:20260127T211807Z
UID:10000455-1789257600-1789775999@northerndivisioncamc.co.uk
SUMMARY:Autumn in Hutton-le-hole
DESCRIPTION:Hutton-Le-Hole\, YO62 6UA \nPickering\, Helmsley and Rievaulx Abbey.\nThe Crown pub is nearby along with the Ryedale Folk Museum\,\nThe Lion Inn at Blakey Ridge and The Blacksmith Arms at Lastingham. \n🎉 Socials\nA curry night and pie and pea supper are to be arranged along with other social activities.
URL:https://northerndivisioncamc.co.uk/event/hutton-le-hole-holiday-rally/
LOCATION:Hutton-le-Hole\, N. Yorkshire
CATEGORIES:Holiday,Weekend plus
ATTACH;FMTTYPE=image/jpeg:https://northerndivisioncamc.co.uk/wp-content/uploads/2024/07/hutton-le-hole.jpg
END:VEVENT
BEGIN:VEVENT
DTSTART;VALUE=DATE:20260917
DTEND;VALUE=DATE:20260921
DTSTAMP:20260419T102250
CREATED:20250116T175820Z
LAST-MODIFIED:20260128T161545Z
UID:10000563-1789603200-1789948799@northerndivisioncamc.co.uk
SUMMARY:Earswick Caravan Site
DESCRIPTION:Earswick Caravan Site\, Strensall Road\, Earswick\, York\, YO32 9SW\n\nIdeal location for exploring York.\nShops at Strensall (1 mile away) & Haxby (2 miles away).\nBus stop opposite the site\, the No 5 is every 15 mins to go to York.\nExtra nights available after the rally.
URL:https://northerndivisioncamc.co.uk/event/earswick-caravan-site/
LOCATION:Old Earswick\, YO32 9SW\, United Kingdom
CATEGORIES:Weekend,Weekend plus
ATTACH;FMTTYPE=image/webp:https://northerndivisioncamc.co.uk/wp-content/uploads/2025/01/nyc-earswick.webp
END:VEVENT
BEGIN:VEVENT
DTSTART;VALUE=DATE:20260924
DTEND;VALUE=DATE:20260929
DTSTAMP:20260419T102250
CREATED:20250104T225811Z
LAST-MODIFIED:20260121T111411Z
UID:10000520-1790208000-1790639999@northerndivisioncamc.co.uk
SUMMARY:Caravan Equipment Jumble Sale @ Cawthorne
DESCRIPTION:Killamarsh Farm\, Cawthorne\, S75 4AR \nOptional Thursday & Sunday Nights available \nCome and participate in our caravan jumble sale. Bring your unwanted equipment to sell. 10% of the proceeds to go to centre charity. Ideally situated for visiting Cannon Hall Museum\, Barnsley etc.\nThis venue is close to Cannon Hall Farm as seen on TV. \nRally Fee: £34 Thursday/Sunday night £13 \nSiting on Arrival
URL:https://northerndivisioncamc.co.uk/event/macmillan-coffee-afternoon/
LOCATION:Killamarsh Farm\, S75 4AR\, United Kingdom
CATEGORIES:Weekend,Weekend plus
ATTACH;FMTTYPE=image/webp:https://northerndivisioncamc.co.uk/wp-content/uploads/2025/01/yp-cannon-hall.webp
END:VEVENT
BEGIN:VEVENT
DTSTART;VALUE=DATE:20261001
DTEND;VALUE=DATE:20261005
DTSTAMP:20260419T102250
CREATED:20250116T181325Z
LAST-MODIFIED:20260128T162037Z
UID:10000565-1790812800-1791158399@northerndivisioncamc.co.uk
SUMMARY:AGM at Catterick Racecourse
DESCRIPTION:Catterick Racecourse\, Catterick Bridge\, North Yorkshire. DL10 7PE\nPLEASE NOTE: This 3 night rally takes place on the hardstanding side of the racecourse\, where Catterick Market used to be.\n\nFriday Night Social with a ‘Costa del Catterick\, (Summer Holiday) theme’ & Live Entertainer on Saturday Night.\nPlease bring your own drinks & nibbles.\n\nAGM is on Sunday Morning (open to non ralliers) at 10.30am.
URL:https://northerndivisioncamc.co.uk/event/agm-at-catterick-racecourse/
LOCATION:Catterick\, North Yorkshire\, DL10 7PE
CATEGORIES:Weekend,Weekend plus
ATTACH;FMTTYPE=image/webp:https://northerndivisioncamc.co.uk/wp-content/uploads/2025/01/nyc-catterick-racecourse.webp
END:VEVENT
BEGIN:VEVENT
DTSTART;VALUE=DATE:20261001
DTEND;VALUE=DATE:20261006
DTSTAMP:20260419T102250
CREATED:20250103T212505Z
LAST-MODIFIED:20260120T145034Z
UID:10000504-1790812800-1791244799@northerndivisioncamc.co.uk
SUMMARY:Knaresborough Cricket Club
DESCRIPTION:Knaresborough Cricket Club\, Aspin Lane\, Knaresborough\, HG5 8EP \nWalking distance to centre of Knaresborough\, Worlds End & Mother Shipton’s Cave.\nClub house on site with a room for our use. Showers.\nBus stop to Harrogate outside gate. \nRally Opens 1pm. \nRally Fee Various site nights available – see bookwhen for details
URL:https://northerndivisioncamc.co.uk/event/knaresborough-cricket-club/
LOCATION:Knaresborough Cricket Club\,\, HG5 8EP\, United Kingdom
CATEGORIES:Weekend,Weekend plus
ATTACH;FMTTYPE=image/webp:https://northerndivisioncamc.co.uk/wp-content/uploads/2025/01/da-c-knaresborough.webp
END:VEVENT
BEGIN:VEVENT
DTSTART;VALUE=DATE:20261004
DTEND;VALUE=DATE:20261011
DTSTAMP:20260419T102250
CREATED:20260126T173113Z
LAST-MODIFIED:20260126T173113Z
UID:10000670-1791072000-1791676799@northerndivisioncamc.co.uk
SUMMARY:Autumn at Englethwaite Hall
DESCRIPTION:Englethwaite Hall CAMC Site\, Armathwaite\, Carlisle\, CA4 9SY \nThis is a free and easy rally\, ideal for an autumnal break with friends. \nNote there are no facilities available on this site. Walks directly from the site.\nClose to Carlisle and Hadrian’s Wall.\nNearest bus stop is 2.8 miles\, with services to surrounding towns.\nArmathwaite train station 4 miles away (Carlisle – Settle line). \nNIGHTLY COST – £20\nVAN LIMIT – 20\nHARD STANDING – YES\nEHU – YES\nRALLY OPEN TIME – 1PM
URL:https://northerndivisioncamc.co.uk/event/autumn-at-englethwaite-hall/
LOCATION:Englethwaite Hall CAMC Site\, Carlisle\,\, united\, CA4 9SY
CATEGORIES:Weekend,Weekend plus
ATTACH;FMTTYPE=image/webp:https://northerndivisioncamc.co.uk/wp-content/uploads/2026/01/cnl-englethwaite-cc.webp
END:VEVENT
BEGIN:VEVENT
DTSTART;VALUE=DATE:20261008
DTEND;VALUE=DATE:20261012
DTSTAMP:20260419T102250
CREATED:20241208T225128Z
LAST-MODIFIED:20260120T163713Z
UID:10000412-1791417600-1791763199@northerndivisioncamc.co.uk
SUMMARY:Pickering - 1940's Weekend
DESCRIPTION:Mount Terrace\, Pickering\, North Yorkshire\, YO18 8JH \nAttractions:- Excellent venue within easy walking distance of Pickering station\, the Beck Isle Museum and the many excellent shops and hostelries in Pickering.\nWithin easy reach of Eden Camp museum\, which is running its 1940s event on Saturday and Sunday. \nRally Fee:- TBA Friday & Saturday night.\nExtra nights TBA per night.
URL:https://northerndivisioncamc.co.uk/event/pickering-rally/
LOCATION:Mount Terrace\, Pickering\, YO18 8JH\, United Kingdom
CATEGORIES:Weekend,Weekend plus
ATTACH;FMTTYPE=image/webp:https://northerndivisioncamc.co.uk/wp-content/uploads/2024/12/mwyc-pickering.webp
END:VEVENT
BEGIN:VEVENT
DTSTART;VALUE=DATE:20261008
DTEND;VALUE=DATE:20261012
DTSTAMP:20260419T102250
CREATED:20260127T215308Z
LAST-MODIFIED:20260127T215308Z
UID:10000680-1791417600-1791763199@northerndivisioncamc.co.uk
SUMMARY:Free And Easy at Staxton
DESCRIPTION:Spital Farm Victorian Village\, Staxton\, YO12 4NW \nClose to Filey\, Scarborough\, Bridlington\, the North Yorkshire Moors and Heartbeat Country is also close.\nBattery charging facilities.\nVictorian Village with onsite tearoom.\nThe Foxhound pub in Flixton\, Fish and Chip restaurant takeaway on opposite side of the road.\nShell garage with small shop. Morrisons supermarket 2 miles.\nSeamer Station near by. Bus stop at site entrance for the Coast-liner Bus. \nFriday evening join us for “Tea and Coffee”.\nSaturday evening social on site (possible charge).\nFollowed by flag\, raffle and competition winners\, and one of Denis’s music quizzes.
URL:https://northerndivisioncamc.co.uk/event/free-and-easy-at-staxton/
LOCATION:Spital Farm Staxton\, YO12 4NW\, United Kingdom
CATEGORIES:Weekend,Weekend plus
ATTACH;FMTTYPE=image/webp:https://northerndivisioncamc.co.uk/wp-content/uploads/2024/12/eyc-spital-farm-1.webp
END:VEVENT
BEGIN:VEVENT
DTSTART;VALUE=DATE:20261008
DTEND;VALUE=DATE:20261013
DTSTAMP:20260419T102250
CREATED:20250103T215503Z
LAST-MODIFIED:20260120T145518Z
UID:10000505-1791417600-1791849599@northerndivisioncamc.co.uk
SUMMARY:Nidderdale Showground
DESCRIPTION:Nidderdale Showground\, Pateley Bridge\, HG3 5BD \nJoin us in this lovely market town in Nidderdale\, an area of outstanding natural beauty. The site is central and within walking distance of shops\, restaurants\, pubs and children’s play area.\nA great walking area and for the more adventurous there is Stump Cross Caverns or How Stean Gorge. \nRally Fee Various site nights available – see bookwhen for details
URL:https://northerndivisioncamc.co.uk/event/nidderdale-showground/
LOCATION:Nidderdale Showground\, Pateley Bridge\, HG3 5BD
CATEGORIES:Weekend,Weekend plus
ATTACH;FMTTYPE=image/webp:https://northerndivisioncamc.co.uk/wp-content/uploads/2025/01/da-c-nidderdale-showground.webp
END:VEVENT
BEGIN:VEVENT
DTSTART;VALUE=DATE:20261008
DTEND;VALUE=DATE:20261013
DTSTAMP:20260419T102250
CREATED:20250105T112730Z
LAST-MODIFIED:20260121T113409Z
UID:10000522-1791417600-1791849599@northerndivisioncamc.co.uk
SUMMARY:Pennine AGM
DESCRIPTION:Killamarsh Farm\, Bark House Lane\, Cawthorne\, Barnsley\, S75 4AR \nOptional Thursday and Sunday nights \nIdeally situated for visiting Cannon Hall Museum\, Barnsley etc. This venue is close to Cannon Hall Farm as seen on TV. \nHot food will be served to those came to the AGM and on the rally on Saturday night \nSaturday at 10:30 Centre Annual General Meeting at Cawthorne Village Hall \nRally Fee: £34 Thursday/Sunday night £14
URL:https://northerndivisioncamc.co.uk/event/pennine-agm-and-chairmans-last-stand/
LOCATION:Killamarsh Farm\, S75 4AR\, United Kingdom
CATEGORIES:Weekend,Weekend plus
ATTACH;FMTTYPE=image/webp:https://northerndivisioncamc.co.uk/wp-content/uploads/2025/01/pennine-AGM.webp
END:VEVENT
BEGIN:VEVENT
DTSTART;VALUE=DATE:20261009
DTEND;VALUE=DATE:20261012
DTSTAMP:20260419T102250
CREATED:20260121T142351Z
LAST-MODIFIED:20260121T142351Z
UID:10000664-1791504000-1791763199@northerndivisioncamc.co.uk
SUMMARY:Blackbrook Farm
DESCRIPTION:Blackbrook Farm\, Morpeth\, NE65 9QL \nWelcome to Blackbrook Farm Rally this Venue is an Hardstanding very close to Alnwick\, Amble\, Morpeth.\nVery close to the wonderful coast and countryside of Northumberland.
URL:https://northerndivisioncamc.co.uk/event/blackbrook-farm-2/
LOCATION:Blackbrook Farm\,\, NE65 9QL\, United Kingdom
CATEGORIES:Weekend,Weekend plus
ATTACH;FMTTYPE=image/webp:https://northerndivisioncamc.co.uk/wp-content/uploads/2025/01/nc-blackbrock-farm.webp
END:VEVENT
BEGIN:VEVENT
DTSTART;VALUE=DATE:20261015
DTEND;VALUE=DATE:20261019
DTSTAMP:20260419T102250
CREATED:20241210T215303Z
LAST-MODIFIED:20260127T215702Z
UID:10000458-1792022400-1792367999@northerndivisioncamc.co.uk
SUMMARY:A Weekend At South Cliff
DESCRIPTION:South Cliff Holiday Park\, Bridlington\, YO15 3QN \nFull site facilities including electric and use of shower and toilet block\, plus rubbish and recycling.\nShort walk to the beach and the Park and Ride into Bridlington.\nNice walk on the promenade or beach into Bridlington.\nFiley is only a short drive away. \nA meal out if enough people interested one evening.\nBingo available in the clubhouse (Makis) usually with an artist
URL:https://northerndivisioncamc.co.uk/event/south-cliff-holiday-park-3/
LOCATION:South Cliff Holiday Park\, Bridlington\, YO15 3QN\, United Kingdom
CATEGORIES:Weekend,Weekend plus
ATTACH;FMTTYPE=image/webp:https://northerndivisioncamc.co.uk/wp-content/uploads/2024/12/eyc-south-cliff-1.webp
END:VEVENT
BEGIN:VEVENT
DTSTART;VALUE=DATE:20261015
DTEND;VALUE=DATE:20261019
DTSTAMP:20260419T102250
CREATED:20250116T183515Z
LAST-MODIFIED:20260128T162658Z
UID:10000567-1792022400-1792367999@northerndivisioncamc.co.uk
SUMMARY:Thirsk Racecourse
DESCRIPTION:Thirsk Racecourse\, Station Road\, Thirsk\, YO7 1QL\n\n\n\nThirsk is a short walk away with its lovely shops\, places to eat and a market on a Saturday.\nVisit the James Herriot award winning museum or walk along the river.\n\nNOTE: This rally is in the Family Enclosure part of Thirsk Racecourse which is a different area to the one for the Valentines rally.
URL:https://northerndivisioncamc.co.uk/event/thirsk-racecourse-17-19-october-2025-thirsk-racecourse-station-road-thirsk-yo7-1ql-thirsk-is-a-short-walk-away-with-its-lovely-shops-places-to-eat-and-a-market-on-a-saturday-visit-the-james-her/
LOCATION:Thirsk Racecourse\, Thisk\, YO7 1QL\, United Kingdom
CATEGORIES:Weekend,Weekend plus
ATTACH;FMTTYPE=image/webp:https://northerndivisioncamc.co.uk/wp-content/uploads/2025/01/nyc-thirsk.webp
END:VEVENT
BEGIN:VEVENT
DTSTART;VALUE=DATE:20261023
DTEND;VALUE=DATE:20261102
DTSTAMP:20260419T102250
CREATED:20250103T163845Z
LAST-MODIFIED:20260126T180934Z
UID:10000494-1792713600-1793577599@northerndivisioncamc.co.uk
SUMMARY:Halloween at Hoddom
DESCRIPTION:Hoddom Castle Caravan Park\, Hoddom\, Lockerbie\, DG11 1AS \nMeal in the onsite restaurant. Halloween Party arranged by the onsite restaurant. \nToilets\, showers and washing facilities plus a small shop selling essentials on site.\nEHU is via a pre-pay card\, please note on your booking form if you would like one pre-loaded by ROs for your arrival. \nNIGHTLY COST- £23.50\nVAN LIMIT- 20\nHARDSTANDING- YES\nEHU- YES-via prepay meter\nRALLY OPEN TIME- TBC in pre-rally email
URL:https://northerndivisioncamc.co.uk/event/halloween-at-hoddom/
LOCATION:Hoddom Castle Caravan Park\, DG11 1AS\, United Kingdom
CATEGORIES:Holiday,Weekend plus
ATTACH;FMTTYPE=image/webp:https://northerndivisioncamc.co.uk/wp-content/uploads/2025/01/cnl-hoddom-halloween.webp
END:VEVENT
BEGIN:VEVENT
DTSTART;VALUE=DATE:20261029
DTEND;VALUE=DATE:20261102
DTSTAMP:20260419T102250
CREATED:20241210T221648Z
LAST-MODIFIED:20260127T220122Z
UID:10000459-1793232000-1793577599@northerndivisioncamc.co.uk
SUMMARY:Goth Weekend at Whitby Abbey
DESCRIPTION:Abbey Farm Caravan Site\, Whitby\, YO22 4JR \nThe site is opposite Whitby Abbey\, short walk to the Micro Brewery or down the steps into Whitby.\nThere is a bus service down into Whitby. \nGoth weekend\, one of the best Festivals celebrating Gothic culture\, music and fashion.\nA must see event\, all free of charge.
URL:https://northerndivisioncamc.co.uk/event/whitby-goth-weekend/
LOCATION:Abbey Farm\, Whitby\, YO22 4JR\, United Kingdom
CATEGORIES:Weekend,Weekend plus
ATTACH;FMTTYPE=image/webp:https://northerndivisioncamc.co.uk/wp-content/uploads/2024/12/eyc-whitby-goth.webp
END:VEVENT
BEGIN:VEVENT
DTSTART;VALUE=DATE:20261104
DTEND;VALUE=DATE:20261108
DTSTAMP:20260419T102250
CREATED:20260120T151140Z
LAST-MODIFIED:20260120T151148Z
UID:10000650-1793750400-1794095999@northerndivisioncamc.co.uk
SUMMARY:Leisurely Lunesdale
DESCRIPTION:New House Caravan Park\, A65\, Carnforth\, LA6 2GY \nKirkby Lonsdale is a mile or so away with its pretty market square\, historic buildings\, shops\, cafes\, Ruskin’s View (Finest view in all England) and riverside walk to the famous Devils Bridge. \nAll pitches are hard standing\, with electric. \nRally Fee: see bookwhen for details
URL:https://northerndivisioncamc.co.uk/event/leisurely-lunesdale/
LOCATION:New House Caravan Park\, Carnforth\, LA6 2GY\, United Kingdom
CATEGORIES:Weekend,Weekend plus
ATTACH;FMTTYPE=image/webp:https://northerndivisioncamc.co.uk/wp-content/uploads/2026/01/da-c-new-house-cp.webp
END:VEVENT
BEGIN:VEVENT
DTSTART;VALUE=DATE:20261111
DTEND;VALUE=DATE:20261117
DTSTAMP:20260419T102250
CREATED:20250103T171121Z
LAST-MODIFIED:20260126T181519Z
UID:10000495-1794355200-1794873599@northerndivisioncamc.co.uk
SUMMARY:Railside
DESCRIPTION:Burrs Country Park CAMC Site\, Woodhill Road\, Bury\, BL8 1DA \nFull facilities available on site. \nAn ideal venue for visiting Manchester and shopping in Bury Centre.\nGood transport connections into Bury and Manchester by bus or Metro.\nThe East Lancashire Steam Railway runs alongside the site\, with a station adjacent to the site\, for those wishing to take a train ride. \nNIGHTLY COST- £27\nVAN LIMIT- 18\nHARDSTANDING- YES\nEHU- YES\nRALLY OPEN TIME- 1PM
URL:https://northerndivisioncamc.co.uk/event/railside/
LOCATION:Burrs Country Park CAMC Site\, BL8 1DA\, United Kingdom
CATEGORIES:Weekend plus
ATTACH;FMTTYPE=image/webp:https://northerndivisioncamc.co.uk/wp-content/uploads/2025/01/cnl-burrs-CP-site.webp
END:VEVENT
BEGIN:VEVENT
DTSTART;VALUE=DATE:20261112
DTEND;VALUE=DATE:20261116
DTSTAMP:20260419T102250
CREATED:20241210T223021Z
LAST-MODIFIED:20260127T222004Z
UID:10000460-1794441600-1794787199@northerndivisioncamc.co.uk
SUMMARY:Grand Firework Party
DESCRIPTION:Driffield Showground\, Kelleythorpe\, Driffield\, YO25 9DN \nFRIDAY EVENING\nHalloween Fancy Dress Competition\, Disco\, Fun & Games BRING YOUR OWN COSTUMES (ADULTS & CHILDREN)\n7pm – Social in the Green Room\, open to all \nSATURDAY \nSelection of Food Stalls and more OPEN AT TEA TIME\nAmazing Firework Display at 6PM\n7.30PM – Social in the Green Room\, open to all \nSTRICTLY NO PRIVATE FIREWORKS OR SPARKLERS
URL:https://northerndivisioncamc.co.uk/event/grand-fireworks-party/
LOCATION:Driffield\, East Riding\, YO25 9DN
CATEGORIES:Weekend,Weekend plus
ATTACH;FMTTYPE=image/webp:https://northerndivisioncamc.co.uk/wp-content/uploads/2024/12/eyc-driffield-fireworks.webp
END:VEVENT
BEGIN:VEVENT
DTSTART;VALUE=DATE:20261118
DTEND;VALUE=DATE:20261123
DTSTAMP:20260419T102250
CREATED:20241211T084726Z
LAST-MODIFIED:20260127T222413Z
UID:10000461-1794960000-1795391999@northerndivisioncamc.co.uk
SUMMARY:Killerby Old Hall
DESCRIPTION:Killerby Old Hall\, Scarborough\, YO11 3TW \nFull site facilities.\nElectric hook-up (now a pre-payment charge – pay for power used).\nBus within walking distance to Filey\, Bridlington and Scarborough.\nMorrisons 2 miles away. Post Office and two shops in village.\nDog washing facilities. \n🎉 Socials\nNine Eighty Bistro and Bar on site – excellent meals. (No social\, sorry).
URL:https://northerndivisioncamc.co.uk/event/killerby-old-hall-2/
LOCATION:Killerby Old Hall\, YO11 3TW\, United Kingdom
CATEGORIES:Holiday,Weekend plus
ATTACH;FMTTYPE=image/webp:https://northerndivisioncamc.co.uk/wp-content/uploads/2024/12/eyc-killerby-old-hall.webp
END:VEVENT
BEGIN:VEVENT
DTSTART;VALUE=DATE:20261118
DTEND;VALUE=DATE:20261124
DTSTAMP:20260419T102250
CREATED:20250103T172734Z
LAST-MODIFIED:20260126T181831Z
UID:10000496-1794960000-1795478399@northerndivisioncamc.co.uk
SUMMARY:York Christmas Markets
DESCRIPTION:Derwent Arms\, Osbaldwick Village\, York\, YO10 3NP \nThe Pub has activities most nights and food ‘specials’.\nWe will have a ralliers meal one night. \nBus stop 130 meters from site. 15-minute ride into the centre of York.\nOr a 40 minute walk for the active \nNIGHTLY COST- £13\nVAN LIMIT- 15\nHARDSTANDING- No\nEHU- No\nRALLY OPEN TIME- 12PM
URL:https://northerndivisioncamc.co.uk/event/york-christmas-markets/
LOCATION:Derwent Arms\, YO10 3NP\, United Kingdom
CATEGORIES:Weekend plus
ATTACH;FMTTYPE=image/webp:https://northerndivisioncamc.co.uk/wp-content/uploads/2025/01/cnl-christmas-market.webp
END:VEVENT
END:VCALENDAR