BEGIN:VCALENDAR
VERSION:2.0
PRODID:-//Northern Division - ECPv6.15.20//NONSGML v1.0//EN
CALSCALE:GREGORIAN
METHOD:PUBLISH
X-WR-CALNAME:Northern Division
X-ORIGINAL-URL:https://northerndivisioncamc.co.uk
X-WR-CALDESC:Events for Northern Division
REFRESH-INTERVAL;VALUE=DURATION:PT1H
X-Robots-Tag:noindex
X-PUBLISHED-TTL:PT1H
BEGIN:VTIMEZONE
TZID:Europe/London
BEGIN:DAYLIGHT
TZOFFSETFROM:+0000
TZOFFSETTO:+0100
TZNAME:BST
DTSTART:20250330T010000
END:DAYLIGHT
BEGIN:STANDARD
TZOFFSETFROM:+0100
TZOFFSETTO:+0000
TZNAME:GMT
DTSTART:20251026T010000
END:STANDARD
BEGIN:DAYLIGHT
TZOFFSETFROM:+0000
TZOFFSETTO:+0100
TZNAME:BST
DTSTART:20260329T010000
END:DAYLIGHT
BEGIN:STANDARD
TZOFFSETFROM:+0100
TZOFFSETTO:+0000
TZNAME:GMT
DTSTART:20261025T010000
END:STANDARD
BEGIN:DAYLIGHT
TZOFFSETFROM:+0000
TZOFFSETTO:+0100
TZNAME:BST
DTSTART:20270328T010000
END:DAYLIGHT
BEGIN:STANDARD
TZOFFSETFROM:+0100
TZOFFSETTO:+0000
TZNAME:GMT
DTSTART:20271031T010000
END:STANDARD
END:VTIMEZONE
BEGIN:VEVENT
DTSTART;VALUE=DATE:20260526
DTEND;VALUE=DATE:20260601
DTSTAMP:20260422T183206
CREATED:20250103T194918Z
LAST-MODIFIED:20260120T122701Z
UID:10000500-1779753600-1780271999@northerndivisioncamc.co.uk
SUMMARY:Ambleside Fells and Friends
DESCRIPTION:Ambleside Rugby Club\, Borrans Road\, Ambleside\, LA22 0EN \nJoin our follow on rally from Grasmere in the town of Ambleside which is a fantastic base for exploring the Lake District. The venue is Ambleside RUFC. \nA walk to the village with its many shops\, pubs & cafes\, a similar distance to the lake in the opposite direction. A bus station in the village to Windermere\, Grasmere\, Kendal & Keswick. An ideal venue for walking or visits to the nearby attractions of the Lake District. \nRally Opens 1pm Tuesday 26th May 2026\nRally Closes 1pm Sunday 31st May 2026 \nRally Fee 5 Nights £112 (Other site nights available)
URL:https://northerndivisioncamc.co.uk/event/relax-in-the-lakes/
LOCATION:Ambleside Rugby Club\, LA22 0EN\, United Kingdom
CATEGORIES:Weekend plus
ATTACH;FMTTYPE=image/webp:https://northerndivisioncamc.co.uk/wp-content/uploads/2025/01/da-c-ambleside.webp
END:VEVENT
BEGIN:VEVENT
DTSTART;VALUE=DATE:20260529
DTEND;VALUE=DATE:20260601
DTSTAMP:20260422T183206
CREATED:20250115T181115Z
LAST-MODIFIED:20260128T141146Z
UID:10000541-1780012800-1780271999@northerndivisioncamc.co.uk
SUMMARY:Catterick Races
DESCRIPTION:Catterick Racecourse\, Catterick Bridge\, North Yorkshire DL10 7PE \nLive horse racing Saturday\, entrance fee is compulsory at £8.00 each (subject to change)\, payable on arrival.\nUnder 18’s go free. \nAs this rally is within the racecourse\, ALL ralliers aged 18 and over will be expected to pay the entrance fee to the races. \nPlease do not book this rally  if  you do not wish to pay the entrance fee.
URL:https://northerndivisioncamc.co.uk/event/catterick-races/
LOCATION:Catterick\, North Yorkshire\, DL10 7PE
CATEGORIES:Weekend,Weekend plus
ATTACH;FMTTYPE=image/webp:https://northerndivisioncamc.co.uk/wp-content/uploads/2025/01/nyc-catterick-racecourse.webp
END:VEVENT
END:VCALENDAR