BEGIN:VCALENDAR
VERSION:2.0
PRODID:-//Northern Division - ECPv6.15.20//NONSGML v1.0//EN
CALSCALE:GREGORIAN
METHOD:PUBLISH
X-WR-CALNAME:Northern Division
X-ORIGINAL-URL:https://northerndivisioncamc.co.uk
X-WR-CALDESC:Events for Northern Division
REFRESH-INTERVAL;VALUE=DURATION:PT1H
X-Robots-Tag:noindex
X-PUBLISHED-TTL:PT1H
BEGIN:VTIMEZONE
TZID:Europe/London
BEGIN:DAYLIGHT
TZOFFSETFROM:+0000
TZOFFSETTO:+0100
TZNAME:BST
DTSTART:20250330T010000
END:DAYLIGHT
BEGIN:STANDARD
TZOFFSETFROM:+0100
TZOFFSETTO:+0000
TZNAME:GMT
DTSTART:20251026T010000
END:STANDARD
BEGIN:DAYLIGHT
TZOFFSETFROM:+0000
TZOFFSETTO:+0100
TZNAME:BST
DTSTART:20260329T010000
END:DAYLIGHT
BEGIN:STANDARD
TZOFFSETFROM:+0100
TZOFFSETTO:+0000
TZNAME:GMT
DTSTART:20261025T010000
END:STANDARD
BEGIN:DAYLIGHT
TZOFFSETFROM:+0000
TZOFFSETTO:+0100
TZNAME:BST
DTSTART:20270328T010000
END:DAYLIGHT
BEGIN:STANDARD
TZOFFSETFROM:+0100
TZOFFSETTO:+0000
TZNAME:GMT
DTSTART:20271031T010000
END:STANDARD
END:VTIMEZONE
BEGIN:VTIMEZONE
TZID:UTC
BEGIN:STANDARD
TZOFFSETFROM:+0000
TZOFFSETTO:+0000
TZNAME:UTC
DTSTART:20250101T000000
END:STANDARD
END:VTIMEZONE
BEGIN:VEVENT
DTSTART;VALUE=DATE:20260814
DTEND;VALUE=DATE:20260817
DTSTAMP:20260422T072155
CREATED:20241206T112636Z
LAST-MODIFIED:20260119T155624Z
UID:10000384-1786665600-1786924799@northerndivisioncamc.co.uk
SUMMARY:Barlow Carnival
DESCRIPTION:Barlow\, Church Farm\, Barlow\, Dronfield\, S18 7TR \nATTRACTIONS:\nGet into the carnival spirit and join us for Barlow Carnival weekend.\nEvents organised by the Barlow Carnival Committee include the flower festival in the Church\, well dressings in the village\, a scarecrow competition and other attractions and events.\nPrevious years events on Thursday and Friday evening include a pub quiz\, bingo\, and outdoor cinema. Follow ‘Barlow Carnival’ on Facebook for updates. \nThe rally field is adjacent to the carnival showground. SYC will be entering a float in the carnival parade with the centre theme ​Egyptians \nBacon butties will be served free to ralliers on Saturday morning whilst decorating the float. \nRally Fee: £35
URL:https://northerndivisioncamc.co.uk/event/barlow-carnival/
LOCATION:Barlow\, Derbyshire\, S18 7TR\, United Kingdom
CATEGORIES:Weekend
ATTACH;FMTTYPE=image/webp:https://northerndivisioncamc.co.uk/wp-content/uploads/2024/12/syc-barlow-carnival.webp
END:VEVENT
BEGIN:VEVENT
DTSTART;VALUE=DATE:20260814
DTEND;VALUE=DATE:20260820
DTSTAMP:20260422T072155
CREATED:20250116T161020Z
LAST-MODIFIED:20260128T160142Z
UID:10000558-1786665600-1787183999@northerndivisioncamc.co.uk
SUMMARY:Pickering
DESCRIPTION:Mount Terrace\, Pickering\, North Yorkshire. YO18 8JH\n\nNOTE: Visitors to pay £3 per car to park on the rally field requested by landowner regardless of length of time (see Rally officer).\nNorth York Moors Railway and Pickering within walking distance.\nPlease phone before posting slips in case the rally is full.\n\nNO GROUNDSHEETS ALLOWED.\nThis rally will close at 12.00 noon on Wednesday.
URL:https://northerndivisioncamc.co.uk/event/pickering/
LOCATION:Mount Terrace\, Pickering\, YO18 8JH\, United Kingdom
CATEGORIES:Weekend,Weekend plus
ATTACH;FMTTYPE=image/webp:https://northerndivisioncamc.co.uk/wp-content/uploads/2025/01/nyc-pickering-railway.webp
END:VEVENT
BEGIN:VEVENT
DTSTART;VALUE=DATE:20260819
DTEND;VALUE=DATE:20260825
DTSTAMP:20260422T072155
CREATED:20250121T104047Z
LAST-MODIFIED:20260128T172605Z
UID:10000611-1787097600-1787615999@northerndivisioncamc.co.uk
SUMMARY:Southport Flower Show
DESCRIPTION:Greenbank High School\, Hastings Rd.\, Southport PR8 2LT \nIdeal venue for visiting Southport Flower Show. \nShowers and Toilets available.
URL:https://northerndivisioncamc.co.uk/event/southport-flower-show/
LOCATION:Greenbank High School\, PR8 2LT\, United Kingdom
CATEGORIES:Weekend,Weekend plus
ATTACH;FMTTYPE=image/webp:https://northerndivisioncamc.co.uk/wp-content/uploads/2025/01/sl-flower-show-1.webp
END:VEVENT
BEGIN:VEVENT
DTSTART;VALUE=DATE:20260820
DTEND;VALUE=DATE:20260827
DTSTAMP:20260422T072155
CREATED:20260126T163325Z
LAST-MODIFIED:20260126T163459Z
UID:10000669-1787184000-1787788799@northerndivisioncamc.co.uk
SUMMARY:Northern Fells
DESCRIPTION:Cockermouth RUFC\, Strawberry How Business Centre\, Cockermouth\, CA13 9XQ \nEvents will be arranged in the Club House by the Rally Officers \nCockermouth is a busy market town in northern Cumbria.\nThe town centre is a mile from\nthe site. There are a selection of supermarkets\, shops\, cafes and pubs.\nThere are good transport links in to the Lake District or nearby towns. \nNIGHTLY COST – £20.50 – Introductory price!\nVAN LIMIT – 30\nHARD STANDING – NO\nEHU – NO\nRALLY OPEN TIME – TBC in pre-rally email
URL:https://northerndivisioncamc.co.uk/event/northern-fells/
LOCATION:Cockermouth RUFC\, Cockermouth\, CA13 9XQ\, United Kingdom
CATEGORIES:Weekend,Weekend plus
ATTACH;FMTTYPE=image/webp:https://northerndivisioncamc.co.uk/wp-content/uploads/2026/01/cnl-cocokermouth-rufc.webp
END:VEVENT
BEGIN:VEVENT
DTSTART;VALUE=DATE:20260821
DTEND;VALUE=DATE:20260827
DTSTAMP:20260422T072155
CREATED:20250116T164215Z
LAST-MODIFIED:20260128T160441Z
UID:10000559-1787270400-1787788799@northerndivisioncamc.co.uk
SUMMARY:Broadings Farm
DESCRIPTION:Broadings Farm Caravan Site\, Guisborough Road\, Whitby\, YO21 1TL\n\n\n“Whitby Folk Week”.\nEntertainment in numerous venues across the town with traditional music\, dance & songs.\nAlso an ideal location for exploring Sandsend\, Robin Hoods Bay & the North Yorkshire Moors.\nWaste disposal provided.\n\nPLEASE NOTE: Caravan Site toilets and shower facilities are NOT available to ralliers.
URL:https://northerndivisioncamc.co.uk/event/broadings-farm/
LOCATION:Broadings Farm\, Whitby\, YO21 1TL\, United Kingdom
CATEGORIES:Weekend,Weekend plus
ATTACH;FMTTYPE=image/webp:https://northerndivisioncamc.co.uk/wp-content/uploads/2025/01/nyc-whitby-folk.webp
END:VEVENT
BEGIN:VEVENT
DTSTART;VALUE=DATE:20260821
DTEND;VALUE=DATE:20260829
DTSTAMP:20260422T072155
CREATED:20241210T160714Z
LAST-MODIFIED:20260127T173704Z
UID:10000448-1787270400-1787961599@northerndivisioncamc.co.uk
SUMMARY:Huby Holiday Rally
DESCRIPTION:Fox Covert Camping & Caravan Park\, Huby\, York\, YO61 1HJ \nYork is a short drive away as are Monks Cross and Clifton Moor shopping centres.\nYou can walk into the village to catch the bus or you can drive down and park the car on the road in the village.\nWithin the village there is a community shop which is well stocked and also serves coffee. T\nhere are two pubs in the village both serving food plus a fish shop.\nThere are good walks around the site all suitable for dog walking too. \nWe will be arranging bacon sandwiches\, cream teas plus a game’s afternoon with Pimm’s.\nThere will be evening socials with bingo\, games and quizzes.\nOne evening we will organise a take-away from the Cantonese Restaurant to have in the Coleman shelters.
URL:https://northerndivisioncamc.co.uk/event/huby-holiday-rally/
LOCATION:Huby\, North Yorkshire\, YO61 1HJ\, United Kingdom
CATEGORIES:Holiday,Weekend plus
ATTACH;FMTTYPE=image/webp:https://northerndivisioncamc.co.uk/wp-content/uploads/2024/12/eyc-huby.webp
END:VEVENT
BEGIN:VEVENT
DTSTART;VALUE=DATE:20260827
DTEND;VALUE=DATE:20260901
DTSTAMP:20260422T072155
CREATED:20241208T220355Z
LAST-MODIFIED:20260120T163204Z
UID:10000410-1787788800-1788220799@northerndivisioncamc.co.uk
SUMMARY:Flamborough Bank Holiday
DESCRIPTION:Hartendale Farm\, Flamborough\, East Yorkshire\, YO15 1PH \nAttractions:- Join us for the late bank holiday at Flamborough. Enjoy the attractions of the East Coast.\nBus stop for Bridlington and Scarborough within 1 mile.\nSite within easy walking distance of Flamborough village with several pubs and fish & chips shops.\nClose to the lighthouse visitor centre. \nWe are hoping to have fun and games on the field on Saturday with prizes for everyone\, leaving Sunday free to go to the RNLI fun day in the village just a short stroll from the site.  \nMusic and quiz socials on the field weather permitting.  \nRally Fee:- 2 Nights £30 per unit. Extra Nights @ £15 per unit per night.
URL:https://northerndivisioncamc.co.uk/event/flamborough-bank-holiday/
LOCATION:Flamborough\, East Riding\, YO15 1PH
CATEGORIES:Holiday,Weekend,Weekend plus
ATTACH;FMTTYPE=image/webp:https://northerndivisioncamc.co.uk/wp-content/uploads/2024/12/mwyc-flamborough.webp
END:VEVENT
BEGIN:VEVENT
DTSTART;VALUE=DATE:20260828
DTEND;VALUE=DATE:20260831
DTSTAMP:20260422T072155
CREATED:20250121T113424Z
LAST-MODIFIED:20260128T172751Z
UID:10000612-1787875200-1788134399@northerndivisioncamc.co.uk
SUMMARY:Southport Air Show
DESCRIPTION:Victoria Park\, Southport PR8 2BZ \nSouthport Air Show\nEHU available at extra charge
URL:https://northerndivisioncamc.co.uk/event/southport-air-show/
LOCATION:Victoria Park\, Southport\, PR8 2BZ\, United Kingdom
CATEGORIES:Weekend,Weekend plus
ATTACH;FMTTYPE=image/webp:https://northerndivisioncamc.co.uk/wp-content/uploads/2025/01/sl-airshow-1.webp
END:VEVENT
BEGIN:VEVENT
DTSTART;VALUE=DATE:20260828
DTEND;VALUE=DATE:20260901
DTSTAMP:20260422T072155
CREATED:20250121T155215Z
LAST-MODIFIED:20260121T173355Z
UID:10000628-1787875200-1788220799@northerndivisioncamc.co.uk
SUMMARY:Summer Bank Holiday
DESCRIPTION:High Chibburn Farm\, Widdrington\, Druridge Bay\, NE61 5EF \nThe field is about an 5- 10 min walk past the pools Bird Hides is the lovely coast line and golden sands. \nAttractions from the venue are 20 min drive North is a fishing village Amble with shops and harbour walks. A little further north past Amble is the village of Warkworth. Warkworth Castle is a ruined medieval building in Warkworth in the English county of Northumberland. With a river walk by the river coquet
URL:https://northerndivisioncamc.co.uk/event/druridge-bay/
LOCATION:High Chibburn Farm\, NE61 5EF\, United Kingdom
CATEGORIES:Holiday,Weekend plus
ATTACH;FMTTYPE=image/webp:https://northerndivisioncamc.co.uk/wp-content/uploads/2025/01/nc-druridge-bay.webp
END:VEVENT
END:VCALENDAR