BEGIN:VCALENDAR
VERSION:2.0
PRODID:-//Northern Division - ECPv6.15.20//NONSGML v1.0//EN
CALSCALE:GREGORIAN
METHOD:PUBLISH
X-ORIGINAL-URL:https://northerndivisioncamc.co.uk
X-WR-CALDESC:Events for Northern Division
REFRESH-INTERVAL;VALUE=DURATION:PT1H
X-Robots-Tag:noindex
X-PUBLISHED-TTL:PT1H
BEGIN:VTIMEZONE
TZID:Europe/London
BEGIN:DAYLIGHT
TZOFFSETFROM:+0000
TZOFFSETTO:+0100
TZNAME:BST
DTSTART:20250330T010000
END:DAYLIGHT
BEGIN:STANDARD
TZOFFSETFROM:+0100
TZOFFSETTO:+0000
TZNAME:GMT
DTSTART:20251026T010000
END:STANDARD
BEGIN:DAYLIGHT
TZOFFSETFROM:+0000
TZOFFSETTO:+0100
TZNAME:BST
DTSTART:20260329T010000
END:DAYLIGHT
BEGIN:STANDARD
TZOFFSETFROM:+0100
TZOFFSETTO:+0000
TZNAME:GMT
DTSTART:20261025T010000
END:STANDARD
BEGIN:DAYLIGHT
TZOFFSETFROM:+0000
TZOFFSETTO:+0100
TZNAME:BST
DTSTART:20270328T010000
END:DAYLIGHT
BEGIN:STANDARD
TZOFFSETFROM:+0100
TZOFFSETTO:+0000
TZNAME:GMT
DTSTART:20271031T010000
END:STANDARD
BEGIN:DAYLIGHT
TZOFFSETFROM:+0000
TZOFFSETTO:+0100
TZNAME:BST
DTSTART:20280326T010000
END:DAYLIGHT
BEGIN:STANDARD
TZOFFSETFROM:+0100
TZOFFSETTO:+0000
TZNAME:GMT
DTSTART:20281029T010000
END:STANDARD
END:VTIMEZONE
BEGIN:VEVENT
DTSTART;VALUE=DATE:20261009
DTEND;VALUE=DATE:20261012
DTSTAMP:20260419T180927
CREATED:20250116T182625Z
LAST-MODIFIED:20260128T162252Z
UID:10000566-1791504000-1791763199@northerndivisioncamc.co.uk
SUMMARY:Ampleforth
DESCRIPTION:Golden Square Caravan Park\, Oswaldkirk\, York\, YO62 5YQ\n\n\nHelmsley market on Friday.\nAll the facilities of the main site including toilets and shower block are available to ralliers at no extra cost.\nThere is a small shop on site with newspapers available all weekend.\nLarge play area for the children.\nElectric hook-up available\, please state if required.\nPrices will be announced for Electric once known.
URL:https://northerndivisioncamc.co.uk/event/ampleforth/
LOCATION:Golden Square Caravan Park\, YO62 5YQ\, United Kingdom
CATEGORIES:Weekend
ATTACH;FMTTYPE=image/webp:https://northerndivisioncamc.co.uk/wp-content/uploads/2025/01/nyc-golden-square.webp
END:VEVENT
BEGIN:VEVENT
DTSTART;VALUE=DATE:20261015
DTEND;VALUE=DATE:20261019
DTSTAMP:20260419T180927
CREATED:20250116T183515Z
LAST-MODIFIED:20260128T162658Z
UID:10000567-1792022400-1792367999@northerndivisioncamc.co.uk
SUMMARY:Thirsk Racecourse
DESCRIPTION:Thirsk Racecourse\, Station Road\, Thirsk\, YO7 1QL\n\n\n\nThirsk is a short walk away with its lovely shops\, places to eat and a market on a Saturday.\nVisit the James Herriot award winning museum or walk along the river.\n\nNOTE: This rally is in the Family Enclosure part of Thirsk Racecourse which is a different area to the one for the Valentines rally.
URL:https://northerndivisioncamc.co.uk/event/thirsk-racecourse-17-19-october-2025-thirsk-racecourse-station-road-thirsk-yo7-1ql-thirsk-is-a-short-walk-away-with-its-lovely-shops-places-to-eat-and-a-market-on-a-saturday-visit-the-james-her/
LOCATION:Thirsk Racecourse\, Thisk\, YO7 1QL\, United Kingdom
CATEGORIES:Weekend,Weekend plus
ATTACH;FMTTYPE=image/webp:https://northerndivisioncamc.co.uk/wp-content/uploads/2025/01/nyc-thirsk.webp
END:VEVENT
BEGIN:VEVENT
DTSTART;VALUE=DATE:20261030
DTEND;VALUE=DATE:20261102
DTSTAMP:20260419T180927
CREATED:20250116T215650Z
LAST-MODIFIED:20260128T162929Z
UID:10000569-1793318400-1793577599@northerndivisioncamc.co.uk
SUMMARY:Halloween & Fireworks at Catterick Racecourse
DESCRIPTION:Catterick Racecourse\, Catterick Bridge\, North Yorkshire\, DL10 7PE\n\n\nChildren’s pumpkin carving Friday night.\nFireworks followed by a Halloween themed social on Saturday evening\, limit – 80 people.\nPlease indicate when booking the number of social tickets required\, entry is strictly by ticket only.\n\nNO SPARKLERS/OWN FIREWORKS.
URL:https://northerndivisioncamc.co.uk/event/halloween-fireworks-at-catterick-racecourse/
LOCATION:Catterick\, North Yorkshire\, DL10 7PE
CATEGORIES:Weekend
ATTACH;FMTTYPE=image/webp:https://northerndivisioncamc.co.uk/wp-content/uploads/2025/01/nyc-bonfire-fireworks.webp
END:VEVENT
BEGIN:VEVENT
DTSTART;VALUE=DATE:20261229
DTEND;VALUE=DATE:20270103
DTSTAMP:20260419T180927
CREATED:20250116T221653Z
LAST-MODIFIED:20260128T164201Z
UID:10000570-1798502400-1798934399@northerndivisioncamc.co.uk
SUMMARY:New Year @ Guisborough
DESCRIPTION:Laurence Jackson School\, Church Lane\, Guisborough\, North Yorkshire\, TS14 6RD\n\n\nCome and join us to celebrate the new year.\nAll hardstanding.\nEntertainment\, including a live singer\, in adjacent school hall.\nBattery charging will be available.
URL:https://northerndivisioncamc.co.uk/event/new-year-2025/
LOCATION:Laurence Jackson School\, TS14 6RD\, United Kingdom
CATEGORIES:Weekend plus
ATTACH;FMTTYPE=image/webp:https://northerndivisioncamc.co.uk/wp-content/uploads/2025/01/nyc-new-year-2027.webp
END:VEVENT
END:VCALENDAR