BEGIN:VCALENDAR
VERSION:2.0
PRODID:-//Northern Division - ECPv6.15.20//NONSGML v1.0//EN
CALSCALE:GREGORIAN
METHOD:PUBLISH
X-WR-CALNAME:Northern Division
X-ORIGINAL-URL:https://northerndivisioncamc.co.uk
X-WR-CALDESC:Events for Northern Division
REFRESH-INTERVAL;VALUE=DURATION:PT1H
X-Robots-Tag:noindex
X-PUBLISHED-TTL:PT1H
BEGIN:VTIMEZONE
TZID:Europe/London
BEGIN:DAYLIGHT
TZOFFSETFROM:+0000
TZOFFSETTO:+0100
TZNAME:BST
DTSTART:20250330T010000
END:DAYLIGHT
BEGIN:STANDARD
TZOFFSETFROM:+0100
TZOFFSETTO:+0000
TZNAME:GMT
DTSTART:20251026T010000
END:STANDARD
BEGIN:DAYLIGHT
TZOFFSETFROM:+0000
TZOFFSETTO:+0100
TZNAME:BST
DTSTART:20260329T010000
END:DAYLIGHT
BEGIN:STANDARD
TZOFFSETFROM:+0100
TZOFFSETTO:+0000
TZNAME:GMT
DTSTART:20261025T010000
END:STANDARD
BEGIN:DAYLIGHT
TZOFFSETFROM:+0000
TZOFFSETTO:+0100
TZNAME:BST
DTSTART:20270328T010000
END:DAYLIGHT
BEGIN:STANDARD
TZOFFSETFROM:+0100
TZOFFSETTO:+0000
TZNAME:GMT
DTSTART:20271031T010000
END:STANDARD
END:VTIMEZONE
BEGIN:VEVENT
DTSTART;VALUE=DATE:20261111
DTEND;VALUE=DATE:20261117
DTSTAMP:20260424T115616
CREATED:20250103T171121Z
LAST-MODIFIED:20260126T181519Z
UID:10000495-1794355200-1794873599@northerndivisioncamc.co.uk
SUMMARY:Railside
DESCRIPTION:Burrs Country Park CAMC Site\, Woodhill Road\, Bury\, BL8 1DA \nFull facilities available on site. \nAn ideal venue for visiting Manchester and shopping in Bury Centre.\nGood transport connections into Bury and Manchester by bus or Metro.\nThe East Lancashire Steam Railway runs alongside the site\, with a station adjacent to the site\, for those wishing to take a train ride. \nNIGHTLY COST- £27\nVAN LIMIT- 18\nHARDSTANDING- YES\nEHU- YES\nRALLY OPEN TIME- 1PM
URL:https://northerndivisioncamc.co.uk/event/railside/
LOCATION:Burrs Country Park CAMC Site\, BL8 1DA\, United Kingdom
CATEGORIES:Weekend plus
ATTACH;FMTTYPE=image/webp:https://northerndivisioncamc.co.uk/wp-content/uploads/2025/01/cnl-burrs-CP-site.webp
END:VEVENT
END:VCALENDAR