BEGIN:VCALENDAR
VERSION:2.0
PRODID:-//Northern Division - ECPv6.15.20//NONSGML v1.0//EN
CALSCALE:GREGORIAN
METHOD:PUBLISH
X-WR-CALNAME:Northern Division
X-ORIGINAL-URL:https://northerndivisioncamc.co.uk
X-WR-CALDESC:Events for Northern Division
REFRESH-INTERVAL;VALUE=DURATION:PT1H
X-Robots-Tag:noindex
X-PUBLISHED-TTL:PT1H
BEGIN:VTIMEZONE
TZID:Europe/London
BEGIN:DAYLIGHT
TZOFFSETFROM:+0000
TZOFFSETTO:+0100
TZNAME:BST
DTSTART:20240331T010000
END:DAYLIGHT
BEGIN:STANDARD
TZOFFSETFROM:+0100
TZOFFSETTO:+0000
TZNAME:GMT
DTSTART:20241027T010000
END:STANDARD
BEGIN:DAYLIGHT
TZOFFSETFROM:+0000
TZOFFSETTO:+0100
TZNAME:BST
DTSTART:20250330T010000
END:DAYLIGHT
BEGIN:STANDARD
TZOFFSETFROM:+0100
TZOFFSETTO:+0000
TZNAME:GMT
DTSTART:20251026T010000
END:STANDARD
BEGIN:DAYLIGHT
TZOFFSETFROM:+0000
TZOFFSETTO:+0100
TZNAME:BST
DTSTART:20260329T010000
END:DAYLIGHT
BEGIN:STANDARD
TZOFFSETFROM:+0100
TZOFFSETTO:+0000
TZNAME:GMT
DTSTART:20261025T010000
END:STANDARD
END:VTIMEZONE
BEGIN:VEVENT
DTSTART;VALUE=DATE:20251017
DTEND;VALUE=DATE:20251020
DTSTAMP:20260421T092920
CREATED:20250112T162408Z
LAST-MODIFIED:20250112T162408Z
UID:10000526-1760659200-1760918399@northerndivisioncamc.co.uk
SUMMARY:Northern Division AGM Rally
DESCRIPTION:Drax Sports And Social Club\, Drax\, Selby\, YO8 8PH \nFriday evening is a free and easy social in the Club house. \nSaturday 2:00pm Northern Division AGM in the Blue Room.\nRefreshments will be available before the meeting. \nSaturday evening will be a SYC evening of entertainment in the Club house in the Blue Social room.\nJoin ‘Quiz Master Wright’ to test your general knowledge in an SYC quiz followed by to music from our very DJ Clubb. \nRALLY FEE: £30.00
URL:https://northerndivisioncamc.co.uk/event/northern-division-agm-rally/
LOCATION:Drax Sports & Social Club\, North Yorkshire\, YO8 8PH\, United Kingdom
CATEGORIES:Meeting,Weekend
ATTACH;FMTTYPE=image/webp:https://northerndivisioncamc.co.uk/wp-content/uploads/2025/01/syc-Division-AGM.webp
END:VEVENT
END:VCALENDAR