BEGIN:VCALENDAR
VERSION:2.0
PRODID:-//Northern Division - ECPv6.15.20//NONSGML v1.0//EN
CALSCALE:GREGORIAN
METHOD:PUBLISH
X-WR-CALNAME:Northern Division
X-ORIGINAL-URL:https://northerndivisioncamc.co.uk
X-WR-CALDESC:Events for Northern Division
REFRESH-INTERVAL;VALUE=DURATION:PT1H
X-Robots-Tag:noindex
X-PUBLISHED-TTL:PT1H
BEGIN:VTIMEZONE
TZID:Europe/London
BEGIN:DAYLIGHT
TZOFFSETFROM:+0000
TZOFFSETTO:+0100
TZNAME:BST
DTSTART:20240331T010000
END:DAYLIGHT
BEGIN:STANDARD
TZOFFSETFROM:+0100
TZOFFSETTO:+0000
TZNAME:GMT
DTSTART:20241027T010000
END:STANDARD
BEGIN:DAYLIGHT
TZOFFSETFROM:+0000
TZOFFSETTO:+0100
TZNAME:BST
DTSTART:20250330T010000
END:DAYLIGHT
BEGIN:STANDARD
TZOFFSETFROM:+0100
TZOFFSETTO:+0000
TZNAME:GMT
DTSTART:20251026T010000
END:STANDARD
BEGIN:DAYLIGHT
TZOFFSETFROM:+0000
TZOFFSETTO:+0100
TZNAME:BST
DTSTART:20260329T010000
END:DAYLIGHT
BEGIN:STANDARD
TZOFFSETFROM:+0100
TZOFFSETTO:+0000
TZNAME:GMT
DTSTART:20261025T010000
END:STANDARD
BEGIN:DAYLIGHT
TZOFFSETFROM:+0000
TZOFFSETTO:+0100
TZNAME:BST
DTSTART:20270328T010000
END:DAYLIGHT
BEGIN:STANDARD
TZOFFSETFROM:+0100
TZOFFSETTO:+0000
TZNAME:GMT
DTSTART:20271031T010000
END:STANDARD
END:VTIMEZONE
BEGIN:VEVENT
DTSTART;VALUE=DATE:20260416
DTEND;VALUE=DATE:20260420
DTSTAMP:20260423T164323
CREATED:20241209T214316Z
LAST-MODIFIED:20260126T201819Z
UID:10000425-1776297600-1776643199@northerndivisioncamc.co.uk
SUMMARY:Dinner Dance and Cabaret
DESCRIPTION:Driffield Showground\, Driffield\, YO25 9DN \nWalking distance to Driffield.\nBeverley\, York and the Yorkshire Coast not far away. \nDinner Dance in the Rix Pavillion\n2 course meal and professional entertainment by Lewis Stead and backing disco all for £40.00 per ticket.\nTake your own drinks in.\nCaravans on site (no bus to pay for). Round tables of 10.\nHair drying facilities in the Rix Pavillion.\nMenu and Tickets please see website
URL:https://northerndivisioncamc.co.uk/event/dinner-dance-and-cabaret/
LOCATION:Driffield\, East Riding\, YO25 9DN
CATEGORIES:Weekend,Weekend plus
ATTACH;FMTTYPE=image/webp:https://northerndivisioncamc.co.uk/wp-content/uploads/2024/12/eyc-driffield-ND.webp
END:VEVENT
BEGIN:VEVENT
DTSTART;VALUE=DATE:20250805
DTEND;VALUE=DATE:20250812
DTSTAMP:20260423T164323
CREATED:20241210T153952Z
LAST-MODIFIED:20241210T154148Z
UID:10000446-1754352000-1754956799@northerndivisioncamc.co.uk
SUMMARY:Driffield Steam Rally
DESCRIPTION:Driffield Showground\, Driffield\, YO25 9DN \nMembership cards or Digital version MUST be shown on arrival NO card NO ENTRY. \nThis is a major Steam Engine and Vintage Fair with classic cars\, motorcycles\, cycles\, tractors\, commercials\, mini steam engines\, large steam engines\, stationary engines\, trade stalls\, craft stalls\, food stalls.\nOrgans playing all day and plenty to do and see right up to 11.00 pm.\nThe entrance Tickets to get into the Steam Rally are £12.00 per person for the duration of Rally.\nYou can go in and out of the event as you like on foot\, (no vehicles to leave camp area between 10am-6pm on show days Sat / Sun please bear this in mind if you wish to go off site\, no vehicles to drive in the show area at any times).  \nThere will be a parade of vintage vehicles through Driffield on Saturday evening. (TBC). \nPlease send stamped addressed envelope for return of vehicle passes.\nAll outfits MUST be pre-Booked by the 26th July. No late bookings can be accepted. \nRally Opens: 2pm Wednesday Closes: noon Monday \nRally Fee: £35.50 for 2 nights incl. £2.00 non-returnable booking fee.\n£14.40 extra nights. Please indicate on slip.
URL:https://northerndivisioncamc.co.uk/event/driffield-steam-rally/
LOCATION:Driffield\, East Riding\, YO25 9DN
CATEGORIES:Holiday,Weekend plus
ATTACH;FMTTYPE=image/webp:https://northerndivisioncamc.co.uk/wp-content/uploads/2024/12/eyc-driffield-steam-rally.webp
END:VEVENT
BEGIN:VEVENT
DTSTART;VALUE=DATE:20250523
DTEND;VALUE=DATE:20250531
DTSTAMP:20260423T164323
CREATED:20241210T082253Z
LAST-MODIFIED:20250104T102738Z
UID:10000429-1747958400-1748649599@northerndivisioncamc.co.uk
SUMMARY:East Yorkshire Centre 50th Anniversary Rally
DESCRIPTION:FULLY BOOKED\n a waiting list is in operation\, for more information please visit www.eastyorkshirecentre.co.uk
URL:https://northerndivisioncamc.co.uk/event/east-yorkshire-centre-50th-anniversary-rally/
LOCATION:Driffield\, East Riding\, YO25 9DN
CATEGORIES:Holiday,Weekend plus
ATTACH;FMTTYPE=image/webp:https://northerndivisioncamc.co.uk/wp-content/uploads/2024/12/eyc-50th.webp
END:VEVENT
END:VCALENDAR